BEGIN:VCALENDAR
VERSION:2.0
CALSCALE:GREGORIAN
PRODID:https://kalender.karlsruhe.de/db/termine/
METHOD:PUBLISH
BEGIN:VEVENT
UID:579901
ORGANIZER;CN=TRIANGEL Transfer | Kultur | Raum:MAILTO:hello@triangel.space
LOCATION:TRIANGEL Transfer | Kultur | Raum
SUMMARY:Science Camp AI Lab
DESCRIPTION;ENCODING=QUOTED-PRINTABLE:In diesem Camp hast du die M=C3=B6glichkeit verschiedene Anwendungen k=C3
 =BCnstlicher Intelligenz kennenzulernen.=0D=0A=0D=0A  Du lernst die wichtigsten Gru
 ndlagen zur Funktionsweise von KI-Modellen und wie du dir diese zu Nutzen m
 achen kannst. Wie bringt man einer KI etwas bei? Warum machen KI-Systeme Fe
 hler\, obwohl sie =E2=80=9Eso schlau=E2=80=9C sind? Wie stellt man sicher\, d
 ass die KI auch auf neue Umst=C3=A4nde richtig reagiert? Hier erf=C3=A4hrst
  du alles\, was du wissen willst!    Mit den vermittelten Grundlagen erh=C3
 =A4ltst du die Chance\, dein eigenes Projekt in Form einer Sprach- oder Bild
 erkennung durchzuf=C3=BChren. Du darfst dir unter Anleitung von Mentoren ei
 n beliebiges Thema heraussuchen und mit Hilfe von Software\, die dir bereitg
 estellt wird\, Daten sammeln mit denen du dein eigenes KI-Modell trainierst.
     Dieses kann im Anschluss auf einem Mikrocontroller f=C3=BCr einen reale
 n Anwendungsfall genutzt werden. Ob ein sprachgesteuerter Automat\, eine aut
 omatische M=C3=BClltrennung oder eine Verkehrsschilderkennung\, der Fantasie
  sind keine Grenzen gesetzt!  =0D=0A  =0D=0A  Du lernst aber nicht nur wie eine sol
 che KI aufgebaut ist und wie du sie verwenden kannst\, sondern auch\, welche 
 moralischen Fragen durch ihre Nutzung entstehen. Wer tr=C3=A4gt beispielswe
 ise die Schuld\, wenn ein autonomes Fahrzeug einen Unfall verursacht? Und wo
 her bekommen eigentlich gro=C3=9Fe Unternehmen die Daten\, mit denen sie ihr
 e KIs trainieren? F=C3=A4lle wie diese werden wir genauer unter die Lupe ne
 hmen.    Auch au=C3=9Ferhalb der Arbeitsphasen erwartet dich ein abwechslun
 gsreiches Programm. In der Woche werden mehrere Exkursionen z.B. zu Siemens
  durchgef=C3=BChrt und abends erwarten dich spannende Freizeitaktivit=C3=A4
 ten. Die =C3=9Cbernachtungen sind ebenfalls inklusive und f=C3=BCr ausreich
 end Verpflegung ist gesorgt.  =0D=0A  =0D=0A  Falls wir dein Interesse wecken konnt
 en oder du noch Fragen hast\, dann schreibt uns doch gerne. Wir freuen uns! 
    Weitere Informationen zum Teilnahmepreis und zur Anmeldung finden sich a
 uf unserer Website.    =0D=0A =20
URL:https://kalender.karlsruhe.de/db/termine/stadtleben/science_camp_ai_lab-1
CLASS:PUBLIC
DTSTART:20260524T000000
DTEND:20260529T000000
DTSTAMP:20260311T083501
CATEGORIES:Stadtleben
ATTACH:https://kalender.karlsruhe.de/db/termine/stadtleben/science_camp_ai_lab-1/file/icon_Science Camp AI Lab 2026.jpg
END:VEVENT

END:VCALENDAR
