BEGIN:VCALENDAR
VERSION:2.0
CALSCALE:GREGORIAN
PRODID:https://kalender.karlsruhe.de/db/termine/
METHOD:PUBLISH
BEGIN:VEVENT
UID:579998
ORGANIZER;CN=TRIANGEL Transfer | Kultur | Raum:MAILTO:hello@triangel.space
LOCATION:TRIANGEL Transfer | Kultur | Raum
SUMMARY:Science Camp Elektrotechnik
DESCRIPTION;ENCODING=QUOTED-PRINTABLE:Entdecke beim Science Camp Elektrotechnik\, wie Technik unseren Alltag ver
 =C3=A4ndert und entwickle gemeinsam mit anderen dein eigenes Projekt.=0D=0A=0D=0A  
 Wie wird aus einer Idee eine Technologie\, die Menschen im Alltag wirklich h
 ilft? Wie testen Entwicklerinnen und Entwickler\, ob ihre Technologie f=C3
 =BCr alle gut funktioniert? Wie lernen autonome Fahrzeuge\, Menschen\, Tier u
 nd andere Gefahren zu erkennen und warum ist das so wichtig? Wie k=C3=B6nnt
 e ein intelligenstes Zuhause aussehen\, das Energie spart? Wie kann Technik 
 dabei helfen\, Stress im Alltag zu reduzieren?    Mit diesen und anderen spa
 nnenden Fragen besch=C3=A4ftigen wir uns im Science Camp Elektrotechnik. Du
  kannst gemeinsam mit anderen zusammen ein eigenes kleines Projekt z.B. mit
  Arduino umsetzen. Daf=C3=BCr besch=C3=A4ftigen wir uns mit der Porgrammier
 ung des Microcontrollers und dem Anschlie=C3=9Fen und Ansteuern verschieden
 er Sensoren und Aktoren. Ein ganzes Studierendenteam von Elektro- und Mediz
 intechnikerinnen wird mit vor Ort sein und euch unterst=C3=BCtzen - also al
 le k=C3=B6nnen mitmachen - egal ob mit oder ohne Vorkenntnisse.    Im Laufe
  der Camp-Woche werdet ihr ein eigenes Projekt in einer kleinen Gruppe selb
 st umsetzen\, von der ersten Idee bis zum fertigen Produkt\, euer Kreativit
 =C3=A4t sind dabei keine Grenzen gesetzt! Ihr k=C3=B6nnt dabei viele versch
 iedene Sensoren und Aktoren ausprobieren\, mit Holz oder 3D Druckern arbeite
 n. Eure fertige Anlage d=C3=BCrft ihr mit nach Hause nehmen.    Neben der U
 msetzung eures Projektes gibt es noch verschiedene Ausfl=C3=BCge\, zum Beisp
 iel eine Besichtigung eines Elektrotechnik Instituts\, der Firma Siemens auc
 h Bouldern oder ein Ausflug ins Europabad sind m=C3=B6glich.    Alle Infos 
 auf einen Blick:  =0D=0A  =0D=0A  Wann? 2.8.- 7.8.26  =0D=0A  Wo? KIT  =0D=0A  F=C3=BCr wen
 ? Jugendliche von 14-16 Jahren  =0D=0A  Kostenanteil: 275=E2=82=AC    Falls die
  ein Hindernis f=C3=BCr dich sind\, gibt es die M=C3=B6glichkeit einer finan
 ziellen Unterst=C3=BCtzung. Melde dich gerne einfach bei uns\, gemeinsam fin
 den wir bestimmt eine L=C3=B6sung.    Vorkenntnisse? Nicht n=C3=B6tig - ein
 fach mitmachen!    Weitere Infos zu der Veranstaltung sowie den Link zur An
 meldung finden sich auf unserer Website.    =0D=0A =20
URL:https://kalender.karlsruhe.de/db/termine/stadtleben/science_camp_elektrotechnik
CLASS:PUBLIC
DTSTART:20260802T000000
DTEND:20260807T000000
DTSTAMP:20260316T084439
CATEGORIES:Stadtleben
ATTACH:https://kalender.karlsruhe.de/db/termine/stadtleben/science_camp_elektrotechnik/file/icon_Science Camp Elektrotechnik.jpg
END:VEVENT

END:VCALENDAR
