BEGIN:VCALENDAR
VERSION:2.0
CALSCALE:GREGORIAN
PRODID:https://kalender.karlsruhe.de/db/termine/
METHOD:PUBLISH
BEGIN:VEVENT
UID:580001
ORGANIZER;CN=TRIANGEL Transfer | Kultur | Raum:MAILTO:hello@triangel.space
LOCATION:TRIANGEL Transfer | Kultur | Raum
SUMMARY:Science Camp Future Lab - Mobilität neu denken
DESCRIPTION;ENCODING=QUOTED-PRINTABLE:Wie kommst du jeden Tag zur Schule? Und wie w=C3=BCrdest du am liebsten dor
 t hinkommen? Fahren wir bald in emissionsfreien Z=C3=BCgen durch smarte St
 =C3=A4dte\, teilen uns autonome Fahrzeuge oder starten mit Flugtaxis in den 
 Himmel? Und wie schaffen wir Mobilit=C3=A4t\, die nicht nur innovativ\, sonde
 rn auch nachhaltig und gerecht f=C3=BCr alle ist?=0D=0A=0D=0A  Im Science Camp Futu
 re Lab dreht sich alles um die Mobilit=C3=A4t von morgen =E2=80=93 und um d
 eine Ideen! Du darfst hier tr=C3=A4umen\, experimentieren und dein eigenes Z
 ukunftsszenario bauen. Keine richtigen oder falschen Antworten\, keine Vorga
 ben: Du entscheidest\, wie Mobilit=C3=A4t aussehen soll.  =0D=0A  =0D=0A  Gemeinsam 
 mit Wissenschaftlerinnen und Wissenschaftlern des Karlsruher Instituts f=C3
 =BCr Technologie (KIT) und Expertinnen und Experten aus der Zukunftsforschu
 ng entdeckst du\, wie die Zukunft sein k=C3=B6nnte. Du lernst\, Trends in der
  Mobilit=C3=A4t zu erkennen und entwickelst ein eigenes Zukunftsszenario.  
   Da treten Frage auf wie: Welche L=C3=B6sungen sind realistisch? Welche Vi
 sionen brauchen Mut? Und wie k=C3=B6nnen wir Mobilit=C3=A4t so gestalten\, d
 ass sie Menschen verbindet statt ausschlie=C3=9Ft?    Dabei z=C3=A4hlt nich
 t nur Technik\, sondern auch Kreativit=C3=A4t\, Teamgeist und deine Perspekti
 ven.=C2=A0Deine Gedanken\, deine Fragen und deine Perspektive sind entscheid
 end\, wenn wir die Mobilit=C3=A4t von morgen fair\, nachhaltig und lebenswert
  gestalten.    Im f=C3=BCnft=C3=A4gigen Camp arbeitest du mit kreativen Met
 hoden und digitalen Tools (3D-Druckern\, Podcaststudio)\, entwickelst eigene 
 Konzepte und baust Prototypen deiner Zukunftsideen =E2=80=93 vom smarten Ve
 rkehrssystem bis zum innovativen Fortbewegungsmittel. Du diskutierst mit Fo
 rschenden\, bekommst Einblicke in aktuelle Projekte und arbeitest im Team an
  L=C3=B6sungen\, die wirklich etwas bewegen k=C3=B6nnen. Dabei z=C3=A4hlen n
 icht nur Technik\, sondern auch Kreativit=C3=A4t\, Teamgeist und deine Perspe
 ktive.    Deine Ideen k=C3=B6nnen dabei mehr als Visionen bleiben: Ob Gesch
 =C3=A4ftsmodell\, Kampagne oder Prototyp: Du entscheidest\, wie weit du gehst
 . Am Ende pr=C3=A4sentierst du deine Zukunftsvision vor Publikum und zeigst
 \, wie du dir die Mobilit=C3=A4t der Zukunft w=C3=BCnschst. Bist du dabei?  
   Alle Infos auf einen Blick:  =0D=0A  Wann?=C2=A031.08=E2=80=9304.09  =0D=0A  Wo?
 =C2=A0KIT  =0D=0A  F=C3=BCr wen?=C2=A0Ab 13 Jahren  =0D=0A  Kostenanteil:=C2=A0100 
 Euro  =0D=0A  Vorkenntnisse?=C2=A0Nicht n=C3=B6tig =E2=80=93 einfach mitmachen!
     Bitte beachte\, dass das Science Camp dieses Jahr ohne =C3=9Cbernachtung
  stattfinden wird. Gerne unterst=C3=BCtzen wir dich bei Bedarf bei deiner S
 uche nach einer Unterkunft.    =0D=0A    Weitere Informationen zur Veranstaltun
 g und der Link zur Anmeldung folgen in K=C3=BCrze auf unserer Website. =20
URL:https://kalender.karlsruhe.de/db/termine/stadtleben/science_camp_future_lab_mobilitat_neu_denken
CLASS:PUBLIC
DTSTART:20260831T000000
DTEND:20260904T000000
DTSTAMP:20260316T084439
CATEGORIES:Stadtleben
ATTACH:https://kalender.karlsruhe.de/db/termine/stadtleben/science_camp_future_lab_mobilitat_neu_denken/file/icon_Science Camp Future Lab.jpg
END:VEVENT

END:VCALENDAR
