BEGIN:VCALENDAR
VERSION:2.0
CALSCALE:GREGORIAN
PRODID:https://kalender.karlsruhe.de/db/termine/
METHOD:PUBLISH
BEGIN:VEVENT
UID:580003
ORGANIZER;CN=TRIANGEL Transfer | Kultur | Raum:MAILTO:hello@triangel.space
LOCATION:TRIANGEL Transfer | Kultur | Raum
SUMMARY:Science Camp Teilchen-und Astroteilchenphysik
DESCRIPTION;ENCODING=QUOTED-PRINTABLE:Warum bauen wir Teilchenbeschleuniger und was k=C3=B6nnen wir mit ihnen beo
 bachten? Wieso brauchen wir Erkenntnisse aus der Teilchenphysik\, um die Ent
 stehung des Universums und die Abl=C3=A4ufe darin zu verstehen? Und welche 
 Anwendungsm=C3=B6glichkeiten haben die darauf basierenden Technologien im a
 llt=C3=A4glichen Leben?=0D=0A=0D=0A  Wenn du moderne Physikthemen spannend findest 
 und gerne mehr dar=C3=BCber lernen w=C3=BCrdest\, dann ist unser Science Cam
 p Teilchen- und Astroteilchenphysik am KIT genau das Richtige f=C3=BCr dich
 . Hier lernst du Zusammenh=C3=A4nge verstehen\, kannst in Experimenten selbs
 t Effekte der Teilchenphysik beobachten und im Team untersuchen sowie auswe
 rten.    Neben einsteigerfreundlichen Vortr=C3=A4gen von Physikprofessorinn
 en und Professoren wird es auch Einblicke in die aktuelle Forschung geben. 
 Daf=C3=BCr sind eine Besichtigung des KATRIN-Experiments\, bei dem die Neutr
 inomasse erstmals experimentell untersucht wird\, sowie der Teilchenbeschleu
 niger KARA und FLUTE am Campus Nord des KIT geplant.    Zudem setzt du dich
  in einer Kleingruppe vertiefend mit einem der verschiedenen Themenbereich 
 deiner Wahl auseinander. In dieser Phase kannst du beispielsweise selbst ei
 nen Detektor bauen\, dich mit Datennahme und Auswertung eines Teilchendetekt
 ors besch=C3=A4ftigen oder spannende Experimente\, wie die Bestimmung der Le
 bensdauer von Myonen (einem Teilchen aus der Kosmischen Strahlung)\, durchf
 =C3=BChren. Sogar die Suche nach Higgsevents in den Daten des Teilchenbesch
 leunigers LHC am CERN ist m=C3=B6glich. Durch den Umgang mit Messger=C3=A4t
 en\, Programmierung und theoretischen Hintergr=C3=BCnde k=C3=B6nnt ihr auf u
 nterschiedlichen Wegen wissenschaftlich arbeiten und Einblicke gewinnen\, di
 e ihr am Ende der Woche allen am Camp Beteiligten sowie euren Familien und 
 weiteren Interessierten pr=C3=A4sentieren d=C3=BCrft.    Es werden euch die
  ganze Camp-Woche Physikstudierende des KIT\, sowie junge Wissenschaftlerinn
 en und Wissenschaftler mit Rat und Tat zur Seite stehen. So habt ihr auch d
 ie M=C3=B6glichkeit\, mehr =C3=BCber den Alltag als Physikerin oder Physiker
 \, ein Physikstudium und allgemein ein Studium am KIT zu erfahren.    Auch a
 u=C3=9Ferhalb der Arbeitsphasen erwartet dich ein abwechslungsreiches Progr
 amm. Abends erwarten dich spannende Freizeitaktivit=C3=A4ten. Die =C3=9Cber
 nachtungen sind ebenfalls inklusive und f=C3=BCr ausreichend Verpflegung is
 t gesorgt.    Alle Infos auf einen Blick:    Wann?=C2=A016.-21.08.2026  =0D=0A 
  Wo?=C2=A0KIT  =0D=0A  F=C3=BCr wen?=C2=A0Jugendliche ab der abgeschlossenen 9.
  Klasse (angehende 10. Klasse und h=C3=B6here Klassen)  =0D=0A  Kostenanteil:
 =C2=A0275 =E2=82=AC  =0D=0A  =0D=0A  Falls die Kosten ein Hindernis f=C3=BCr dich s
 ind\, gibt es die M=C3=B6glichkeit einer finanziellen Unterst=C3=BCtzung. Me
 lde dich gerne einfach bei uns =E2=80=93 gemeinsam finden wir bestimmt eine
  L=C3=B6sung!  =0D=0A  =0D=0A  Vorkenntnisse?=C2=A0Nicht n=C3=B6tig =E2=80=93 einfa
 ch mitmachen!  =0D=0A  =0D=0A  Bei allen Fragen rund um das Camp darfst du dich ger
 ne an Herrn Gauss=C2=A0=C2=A0info@zml.kit.edu=C2=A0wenden.    Weitere Infor
 mationen zur Veranstaltung und den Link zur Anmeldung gibt es auf unserer W
 ebsite. =20
URL:https://kalender.karlsruhe.de/db/termine/stadtleben/science_camp_teilchen_und_astroteilchenphysik-1
CLASS:PUBLIC
DTSTART:20260816T000000
DTEND:20260821T000000
DTSTAMP:20260316T084439
CATEGORIES:Stadtleben
ATTACH:https://kalender.karlsruhe.de/db/termine/stadtleben/science_camp_teilchen_und_astroteilchenphysik-1/file/icon_Science Camp Teilchen und Astroteilchenphysik.jpg
END:VEVENT

END:VCALENDAR
