BEGIN:VCALENDAR
VERSION:2.0
CALSCALE:GREGORIAN
PRODID:https://kalender.karlsruhe.de/db/termine/
METHOD:PUBLISH
BEGIN:VEVENT
UID:579337
ORGANIZER;CN=Naturschutzzentrum Karlsruhe-Rappenwört:MAILTO:info@nazka.de
LOCATION:Naturschutzzentrum Karlsruhe-Rappenwört
SUMMARY:Smartphone-Walk für Senioren
DESCRIPTION;ENCODING=QUOTED-PRINTABLE:Naturfotos mit dem Handy=0D=0A=0D=0A    Foto:      =C2=A9Eva Lipp        Theorie un
 d Praxis mit Smartphone oder Kamera    =0D=0A  In diesem Kurs widmen wir uns zu
 n=C3=A4chst den theoretischen Grundlagen der Fotografie. Beim anschlie=C3
 =9Fenden Fotowalk an den Saumseen kann das Gelernte direkt angewendet werde
 n.    Hinweis: Beim Smartphone oder der Kamera sollte eine manuelle Einstel
 lung m=C3=B6glich sein: "Pro" oder "manueller Modus".    Der Kurs richtet s
 ich speziell an Senioren\, begangen werden barrierefreie Wege.        Refere
 ntin:    Eva Lipp\, Insta-Fotografin  =0D=0A     Kosten:    9 =E2=82=AC / Person
   =0D=0A     Treffpunkt:    Parkplatz des griechischen Restaurants =E2=80=9EAn 
 den Saumseen=E2=80=9C\, Saumweg 3\, Daxlanden      Anmeldung und Vorab=C3=BCb
 erweisung der Teilnahmegeb=C3=BChr=C2=A0bis 14.05.2026 erforderlich.   =20
URL:https://kalender.karlsruhe.de/db/termine/stadtleben/smartphone_walk_fur_senioren
CLASS:PUBLIC
DTSTART:20260517T140000
DTEND:20260517T153000
DTSTAMP:20260223T081209
CATEGORIES:Stadtleben
ATTACH:https://kalender.karlsruhe.de/db/termine/stadtleben/smartphone_walk_fur_senioren/file/icon_Smartphone Walk 600x500 (c) E.Lipp.jpg
END:VEVENT

END:VCALENDAR
