BEGIN:VCALENDAR
VERSION:2.0
CALSCALE:GREGORIAN
PRODID:https://kalender.karlsruhe.de/db/termine/
METHOD:PUBLISH
BEGIN:VEVENT
UID:580505
ORGANIZER;CN=Naturschutzzentrum Karlsruhe-Rappenwört:MAILTO:info@nazka.de
LOCATION:Saumweg 3, Karlsruhe, Daxlanden
SUMMARY:Smartphone-Walk: Naturfotos mit dem Handy
DESCRIPTION;ENCODING=QUOTED-PRINTABLE:ab 11 Jahren=0D=0A=0D=0A    Theorie und Praxis mit Smartphone oder Kamera    =0D=0A  In
  diesem Kurs widmen wir uns zun=C3=A4chst den theoretischen Grundlagen der 
 Fotografie. Beim anschlie=C3=9Fenden Fotowalk an den Saumseen kann das Gele
 rnte direkt angewendet werden.  =0D=0A  Hinweis: Beim Smartphone oder der Kamer
 a sollte eine manuelle Einstellung m=C3=B6glich sein: "Pro" oder "manueller
  Modus".      Referentin    : Eva Lipp\, Insta-Fotografin  =0D=0A     Kosten:   
  9 =E2=82=AC / Person    =0D=0A     Anmeldung mit=C2=A0Vorab=C3=BCberweisung de
 r Teilnahmegeb=C3=BChr=C2=A0bis 15.10.2026 erforderlich.   =20
URL:https://kalender.karlsruhe.de/db/termine/stadtleben/smartphone_walk_naturfotos_mit_dem_handy-2
CLASS:PUBLIC
DTSTART:20261018T140000
DTEND:20261018T153000
DTSTAMP:20260330T083911
CATEGORIES:Stadtleben
ATTACH:https://kalender.karlsruhe.de/db/termine/stadtleben/smartphone_walk_naturfotos_mit_dem_handy-2/file/icon_Logo Nazka 3,0 cm.jpg
END:VEVENT

END:VCALENDAR
