BEGIN:VCALENDAR
VERSION:2.0
CALSCALE:GREGORIAN
PRODID:https://kalender.karlsruhe.de/db/termine/
METHOD:PUBLISH
BEGIN:VEVENT
UID:578672
ORGANIZER;CN=Forstamt Stadt Karlsruhe:MAILTO:waldpaedagogik@fa.karlsruhe.de
LOCATION:Steinmannstraße 1 Rüppurr
SUMMARY:Sonnenaufgangswanderung
DESCRIPTION;ENCODING=QUOTED-PRINTABLE:f=C3=BCr Fr=C3=BChaufsteher(innen) ab 16 Jahren=0D=0A=0D=0A  Wir wandern ohne Tasch
 enlampe von R=C3=BCppurr nach Gr=C3=BCnwettersbach und zur=C3=BCck.    Den 
 stimmungsvollen Sonnenaufgang in den Karlsruher =E2=80=9EBergen=E2=80=9C be
 obachten wir bei einem gemeinsamen Rucksackfr=C3=BChst=C3=BCck (Selbstverso
 rgung).    Bei der ca. 12 km langen Strecke =C3=BCberwinden wir etwa 200 H
 =C3=B6henmeter (hoch und wieder runter) und erleben die einzigartige Stimmu
 ng\, wenn der Tag im Wald erwacht.  =0D=0A      Referent:    Bernd Struck\, Revie
 rf=C3=B6rster    Anmeldung auf der Homepage bis 22. Juni      Kostenlose Ve
 ranstaltung - wir freuen uns =C3=BCber eine Spende.      Hinweis:=C2=A0=C2
 =A0witterungsbedingt kann es kurzfristig zu einer Verschiebung der Veransta
 ltung kommen! =20
URL:https://kalender.karlsruhe.de/db/termine/stadtleben/sonnenaufgangswanderung
CLASS:PUBLIC
DTSTART:20260627T030000
DTEND:20260627T080000
DTSTAMP:20260130T081355
CATEGORIES:Stadtleben
ATTACH:https://kalender.karlsruhe.de/db/termine/stadtleben/sonnenaufgangswanderung/file/icon_26-06-27 Waldpaedagogik_KA_Sonnenaufgang im Wald.jpg
END:VEVENT

END:VCALENDAR
