BEGIN:VCALENDAR
VERSION:2.0
CALSCALE:GREGORIAN
PRODID:https://kalender.karlsruhe.de/db/termine/
METHOD:PUBLISH
BEGIN:VEVENT
UID:579608
ORGANIZER;CN=Karlsruher Energie- und Klimaschutzagentur:MAILTO:info@kek-karlsruhe.de
LOCATION:Karlsruhe-Neureut
SUMMARY:Spazier‘ mit – Neureut zeigt seine Sanierungsbeispiele
DESCRIPTION;ENCODING=QUOTED-PRINTABLE:Am 22. April hei=C3=9Ft es =E2=80=9ESpazier=E2=80=98 mit=E2=80=9C in Neureu
 t. Hauseigent=C3=BCmerinnen und -eigent=C3=BCmer zeigen ihre durchgef=C3=BC
 hrten Sanierungsma=C3=9Fnahmen.=0D=0A=0D=0A  Unser Spaziergang zu Sanierungsbeispie
 len in Neureut gibt Antworten aus erster Hand. Erfahren Sie unter anderem w
 ie eine     Erdw=C3=A4rmepumpe    erfolgreich installiert werden kann und w
 ie auf einem     Balkon    Strom durch     Photovoltaik    erzeugt  wird. G
 emeinsam besuchen wir verschiedene Geb=C3=A4ude in Neureut\, deren  Eigent
 =C3=BCmerinnen und Eigent=C3=BCmer ihre Erfahrungen mit uns teilen.    Sie 
 erz=C3=A4hlen von ihren ganz pers=C3=B6nlichen Sanierungswegen: von den  er
 sten Ideen =C3=BCber Herausforderungen bis zu den L=C3=B6sungen\, die heute 
  zuverl=C3=A4ssig W=C3=A4rme\, Strom und Komfort liefern.    Das Besondere: 
 Sie k=C3=B6nnen direkt ins Gespr=C3=A4ch kommen\, Fragen stellen  und von de
 n Erfahrungen profitieren\, die andere bereits gemacht haben.  So nehmen Sie
  nicht nur Inspiration\, sondern auch     praktische Tipps    f=C3=BCr Ihr e
 igenes Modernisierungsvorhaben mit.    Die Teilnehmerzahl ist begrenzt =E2
 =80=93 melden Sie sich gleich an und  sichern Sie sich Ihren Platz beim San
 ierungsspaziergang in Neureut.    =0D=0A    Diese Veranstaltung findet im Rahme
 n der Aktionswoche =E2=80=9EKEK on tour in Neureut=E2=80=9C statt =20
URL:https://kalender.karlsruhe.de/db/termine/stadtleben/spazier_mit_neureut_zeigt_seine_sanierungsbeispiele
CLASS:PUBLIC
DTSTART:20260422T170000
DTEND:20260422T183000
DTSTAMP:20260407T111930
CATEGORIES:Stadtleben
ATTACH:https://kalender.karlsruhe.de/db/termine/stadtleben/spazier_mit_neureut_zeigt_seine_sanierungsbeispiele/file/icon_sanierungsspaziergang-neureut.jpg
END:VEVENT

END:VCALENDAR
