BEGIN:VCALENDAR
VERSION:2.0
CALSCALE:GREGORIAN
PRODID:https://kalender.karlsruhe.de/db/termine/
METHOD:PUBLISH
BEGIN:VEVENT
UID:577660
ORGANIZER;CN=Kinemathek Karlsruhe e.V.:MAILTO:info@kinemathek-karlsruhe.de
LOCATION:Kinemathek Karlsruhe e.V.
SUMMARY:Speakeasy Cinema
DESCRIPTION;ENCODING=QUOTED-PRINTABLE:Jeden Montag=0D=0A=0D=0A    Montag =3D SPEAKEASY CINEMA    =0D=0A  =0D=0A     Cocktails + F
 ilm    =0D=0A  =0D=0A     W=C3=A4hrend die Bar Cocktails serviert\, wird ein Film ge
 spielt\, der nach dem Sneakpreview-Prinzip im Vorfeld nicht bekannt ist. Sta
 tt einem Kinoticket reicht der Kauf eines (nat=C3=BCrlich auch alkoholfreie
 n) Cocktails zum Filmbesuch.    =0D=0A  =0D=0A     Ab 18:00 Cocktails    =0D=0A     19:
 30 Film    =0D=0A     Bis 23:00 Cocktails   =20
URL:https://kalender.karlsruhe.de/db/termine/stadtleben/speakeasy_cinema-10
CLASS:PUBLIC
DTSTART:20260105T180000
DTEND:20260427T230000
DTSTAMP:20260107T083130
CATEGORIES:Stadtleben
ATTACH:https://kalender.karlsruhe.de/db/termine/stadtleben/speakeasy_cinema-10/file/icon_Bildschirmfoto 2024-08-09 um 17.32.34.jpg
END:VEVENT

END:VCALENDAR
