BEGIN:VCALENDAR
VERSION:2.0
CALSCALE:GREGORIAN
PRODID:https://kalender.karlsruhe.de/db/termine/
METHOD:PUBLISH
BEGIN:VEVENT
UID:580411
ORGANIZER;CN=Bündnis für Demokratie und Menschenrechte Karlsruhe:MAILTO:info@buendnis-karlsruhe.de
LOCATION:Stadtkloster St. Franziskus, Dammerstock/Weiherfeld
SUMMARY:Sprechen & Zuhören im Quartier
DESCRIPTION;ENCODING=QUOTED-PRINTABLE:Gespr=C3=A4chsrunde zur Frage =E2=80=9EWie geht es Ihnen mit der Vielfalt a
 n Menschen in unserer Stadt?=E2=80=9C=0D=0A=0D=0A    Sprechen verbindet. Zuh=C3=B6r
 en ver=C3=A4ndert.        Die Veranstaltungsreihe des B=C3=BCndnisses f=C3
 =BCr Demokratie & Menschenrechte geht in die n=C3=A4chste Runde: Die dritte
  Ausgabe von =E2=80=9ESprechen & Zuh=C3=B6ren im Quartier=E2=80=9C findet i
 m Stadtkloster St. Franziskus in Karlsruhe-Dammerstock statt.       De Gesp
 r=C3=A4chsg=C3=A4ste teilen ihre Gedanken zu der vorgegebenen Frage=C2=A0
 =E2=80=9EWie=C2=A0geht es Ihnen mit der Vielfalt an Menschen in unserer Sta
 dt?=E2=80=9C=C2=A0in Kleingruppen und im Plenum. Die Frage ist bewusst pers
 =C3=B6nlich formuliert\, es ist kein besonderes Vorwissen notwendig. Im gesc
 h=C3=BCtzten Raum ist ein echter Austausch m=C3=B6glich\, der Verst=C3=A4ndn
 is f=C3=BCr andere Sichtweisen und Ansichten f=C3=B6rdert.    Moderiert wir
 d die Veranstaltung von Andrea Sauermost und Corinna Willh=C3=B6ft\, die bei
 de speziell f=C3=BCr dieses Format ausgebildet sind und f=C3=BCr eine offen
 e und vertrauensvolle Atmosph=C3=A4re sorgen. Die Teilnahme ist kostenlos. 
 Bitte melden Sie sich =C3=BCber das Online-Formular auf der B=C3=BCndnis-We
 bsite (buendnis-karlsruhe.de) an.       Einlass ist um 17.30 Uhr.  =0D=0A  Ort:
  Stadtkloster St. Franziskus in Karlsruhe-Dammerstock\, Rechts der Alb 28\, 7
 6199 Karlsruhe         Veranstalter ist das B=C3=BCndnis f=C3=BCr Demokrati
 e und Menschenrechte Karlsruhe in Kooperation mit dem Stadtkloster St. Fran
 ziskus in Karlsruhe\; weitere Kooperationspartner sind der B=C3=BCrgerverein
  Weiherfeld-Dammerstock e.V. und die Evangelische Friedensgemeinde / Evange
 lische Gemeinde R=C3=BCppurr.    =20
URL:https://kalender.karlsruhe.de/db/termine/stadtleben/sprechen_zuhoren_im_quartier-2
CLASS:PUBLIC
DTSTART:20260426T180000
DTEND:20260426T200000
DTSTAMP:20260325T135123
CATEGORIES:Stadtleben
ATTACH:https://kalender.karlsruhe.de/db/termine/stadtleben/sprechen_zuhoren_im_quartier-2/file/icon_S_u_Z_2026-02-08_1_Stuhlkreis_cBuendnis.jpg
END:VEVENT

END:VCALENDAR
