BEGIN:VCALENDAR
VERSION:2.0
CALSCALE:GREGORIAN
PRODID:https://kalender.karlsruhe.de/db/termine/
METHOD:PUBLISH
BEGIN:VEVENT
UID:577243
ORGANIZER;CN=Boservice Stadtführungen Karlsruhe:MAILTO:
LOCATION:City Tour durch Karlsruhe
SUMMARY:Stadtführung mit Aussicht
DESCRIPTION;ENCODING=QUOTED-PRINTABLE:Entdecke Karlsruhe aus einer ganz besonderen Perspektive=0D=0A=0D=0A  Bei dieser ne
 u konzipierten Stadtf=C3=BChrung der Firma BOService Karlsruhe ist ein High
 light der grandiose Ausblick auf die F=C3=A4cherstadt von der 9. Etage des 
 Hotel Motel One in der Kriegsstrasse direkt in der City.    Treffpunkt: Dir
 ekt vor dem Rathaus der Stadt Karlsruhe am Marktplatz        Preise:    Erw
 achsene: Euro 10\,00    Kinder und Jugendliche 6-14 Jahre: Euro 5\,00    Info
 Tel.: 0721/91679888 oder mobil 0170/2935072    Internet: www.stadtfuehrunge
 n-karlsruhe.de    Anmeldung erforderlich    Mindestteilnehmerzahl: 6 Person
 en    Auch andere Termine sind jederzeit nach R=C3=BCcksprache mit dem Vera
 nstalter m=C3=B6glich. =20
URL:https://kalender.karlsruhe.de/db/termine/stadtleben/stadtfuhrung_mit_aussicht
CLASS:PUBLIC
DTSTART:20260401T140000
DTEND:20260430T153000
DTSTAMP:20260324T102135
CATEGORIES:Stadtleben
ATTACH:https://kalender.karlsruhe.de/db/termine/stadtleben/stadtfuhrung_mit_aussicht/file/icon_IMG_4698.jpg
END:VEVENT

END:VCALENDAR
