BEGIN:VCALENDAR
VERSION:2.0
CALSCALE:GREGORIAN
PRODID:https://kalender.karlsruhe.de/db/termine/
METHOD:PUBLISH
BEGIN:VEVENT
UID:580609
ORGANIZER;CN=vhs Karlsruhe:MAILTO:info@vhs-karlsruhe.de
LOCATION:vhs Karlsruhe
SUMMARY:Stadtführung: Muslimisches Leben in Karlsruhe
DESCRIPTION;ENCODING=QUOTED-PRINTABLE:in Kooperation mit: Deutschsprachiger Muslimkreis Karlsruhe e.V. & Antidisk
 riminierungsstelle Karlsruhe=0D=0A=0D=0A  =C2=A9Nasrin Farkhari    Die F=C3=BChrung
  durch Karlsruhe stellt muslimischen wie nicht-muslimischen Menschen Aspekt
 e des gegenw=C3=A4rtigen muslimischen Lebens in der Stadt vor. Sie m=C3=B6c
 hte auch die Frage nach der Geschichte der Muslime und des Islams beziehung
 sweise der muslimischen Kultur in Karlsruhe kl=C3=A4ren. Gemeinsam wollen w
 ir die Stadt aus dem Blickwinkel der hier lebenden Muslime betrachten und u
 ns auf die Suche nach Orten begeben\, die in der Geschichte seit etwa 1950 u
 nd der Gegenwart muslimischer Menschen eine Rolle spielen.    Rundtour:=C2
 =A0 KIT Bibliothek & AKK / Campus S=C3=BCd =E2=80=93 Karlsruher Schloss =E2
 =80=93 Platz der Grundrechte / Marktplatz =E2=80=93 Kulinarisches Ende in d
 er Innenstadt    mit Voranmeldung =20
URL:https://kalender.karlsruhe.de/db/termine/stadtleben/stadtfuhrung_muslimisches_leben_in_karlsruhe-2
CLASS:PUBLIC
DTSTART:20260625T160000
DTEND:20260625T183000
DTSTAMP:20260331T120346
CATEGORIES:Stadtleben
ATTACH:https://kalender.karlsruhe.de/db/termine/stadtleben/stadtfuhrung_muslimisches_leben_in_karlsruhe-2/file/icon_musl. Stadtführung Nasrin Farkhari.jpg
END:VEVENT

END:VCALENDAR
