BEGIN:VCALENDAR
VERSION:2.0
CALSCALE:GREGORIAN
PRODID:https://kalender.karlsruhe.de/db/termine/
METHOD:PUBLISH
BEGIN:VEVENT
UID:579874
ORGANIZER;CN=Bürgergesellschaft Südstadt:MAILTO:
LOCATION:siehe Homepage
SUMMARY:Stadtteilführung
DESCRIPTION;ENCODING=QUOTED-PRINTABLE:die interessantesten Hinterh=C3=B6fe der S=C3=BCdstadt=0D=0A=0D=0A
URL:https://kalender.karlsruhe.de/db/termine/stadtleben/stadtteilfuhrung
CLASS:PUBLIC
DTSTART:20260509T140000
DTEND:
DTSTAMP:20260309T091920
CATEGORIES:Stadtleben
ATTACH:https://kalender.karlsruhe.de/db/termine/stadtleben/stadtteilfuhrung/file/icon_Logo-Wappen.jpg
END:VEVENT

END:VCALENDAR
