BEGIN:VCALENDAR
VERSION:2.0
CALSCALE:GREGORIAN
PRODID:https://kalender.karlsruhe.de/db/termine/
METHOD:PUBLISH
BEGIN:VEVENT
UID:577980
ORGANIZER;CN=KME Karlsruhe Marketing und Event GmbH:MAILTO:info@karlsruhe-event.de
LOCATION:Schlossplatz Karlsruhe
SUMMARY:Stadtwerke Karlsruhe  WINTERZEIT 2026/2027
DESCRIPTION;ENCODING=QUOTED-PRINTABLE:Winterliches Vergn=C3=BCgen vor dem Karlsruher Schloss: Die Stadtwerke Karl
 sruhe WINTERZEIT l=C3=A4dt zum Schlittschuhlaufen\, Stockschie=C3=9Fen und W
 interdorf-Erlebnis ein =E2=80=93 ideal f=C3=BCr Familien und alle Winterspo
 rtfans.=0D=0A=0D=0A  Die     Stadtwerke Karlsruhe WINTERZEIT    verwandelt von Ende
  November bis Ende Januar den Karlsruher Schlossplatz in ein stimmungsvolle
 s Winter-Erlebnis mit gro=C3=9Fer Eisslauffl=C3=A4che\, Stockschie=C3=9Faren
 a=C2=A0und gem=C3=BCtlichem Winterdorf mit kulinarischen Angeboten.    Besu
 cherinnen und Besucher k=C3=B6nnen t=C3=A4glich ab 10 Uhr auf der Eisbahn i
 hre Runden drehen\, sich im geselligen Stockschie=C3=9Fen messen oder am Abe
 nd bei Gl=C3=BChwein und Punsch im festlich dekorierten Winterdorf verweile
 n.  =0D=0A  F=C3=BCr Familien und Gruppen gibt es zus=C3=A4tzlich abwechslungsr
 eiche Programmpunkte wie spezielle Winter-Partys\, thematische After-Work-Ev
 ents und besondere Highlights wie die Beat Night Pride on Ice.    Mit seine
 r Kombination aus Sport\, Freizeit und winterlichem Flair bietet die Stadtwe
 rke Karlsruhe WINTERZEIT ein abwechslungsreiches und stimmungsvolles Erlebn
 is f=C3=BCr Jung und Alt =E2=80=93 direkt im Herzen der Karlsruher Innensta
 dt vor der eindrucksvollen Kulisse des Barockschlosses.    Foto: KME Karlsr
 uhe Marketing und Event GmbH | Katharina Stock =20
URL:https://kalender.karlsruhe.de/db/termine/stadtleben/stadtwerke_karlsruhe_winterzeit20262027n
CLASS:PUBLIC
DTSTART:20261123T000000
DTEND:20270124T000000
DTSTAMP:20260114T085259
CATEGORIES:Stadtleben
ATTACH:https://kalender.karlsruhe.de/db/termine/stadtleben/stadtwerke_karlsruhe_winterzeit20262027n/file/icon_Weihnachtsstadt_Winterzeit_2025_©_KME_KatharinaStock_1.jpg
END:VEVENT

END:VCALENDAR
