BEGIN:VCALENDAR
VERSION:2.0
CALSCALE:GREGORIAN
PRODID:https://kalender.karlsruhe.de/db/termine/
METHOD:PUBLISH
BEGIN:VEVENT
UID:578128
ORGANIZER;CN=HWK Gärtnerei Grötzingen:MAILTO:gaertnerei@hwk.com
LOCATION:HWK Gärtnerei Grötzingen
SUMMARY:Strauß binden für Anfänger
DESCRIPTION;ENCODING=QUOTED-PRINTABLE:Schritt f=C3=BCr Schritt=0D=0A=0D=0A  In diesem kreativen Workshop lernen Sie Schri
 tt f=C3=BCr Schritt\, wie Sie aus frischen Blumen und Gr=C3=BCn einen harmon
 ischen\, handgebundenen Strau=C3=9F gestalten. Gemeinsam entdecken wir die G
 rundlagen der Blumenauswahl\, Farbkombination und Bindetechnik =E2=80=93 ide
 al f=C3=BCr alle\, die Freude an Blumen haben und ihre eigene kleine Florist
 ik kreieren m=C3=B6chten.    Bringen Sie gute Laune und Lust auf Kreativit
 =C3=A4t mit =E2=80=93 alle Materialien werden gestellt. Am Ende nehmen Sie 
 Ihren selbst gebundenen Strau=C3=9F mit nach Hause!    Geleitet wird der Wo
 rkshop von Meisterfloristin Viola Sieg=C2=A0 aus Bruchsal\, die ihr Fachwiss
 en und viele praktische Tipps aus ihrer langj=C3=A4hrigen Erfahrung mit Ihn
 en teilt.    Kosten:=C2=A059 Euro    Anmeldung:      Eine=C2=A0verbindliche
  Anmeldung=C2=A0erfolgt per=C2=A0E-Mail an=C2=A0gaertnerei@hwk.com.      Mi
 t Ihrer Anmeldung erkl=C3=A4ren Sie sich mit unseren Teilnahmebedingungen e
 inverstanden. Wir danken f=C3=BCr Ihr Verst=C3=A4ndnis und freuen uns auf e
 inen inspirierenden\, kreativen Workshop mit Ihnen!   =20
URL:https://kalender.karlsruhe.de/db/termine/stadtleben/strau_binden_fur_anfanger
CLASS:PUBLIC
DTSTART:20260718T110000
DTEND:20260718T130000
DTSTAMP:20260120T120029
CATEGORIES:Stadtleben
ATTACH:https://kalender.karlsruhe.de/db/termine/stadtleben/strau_binden_fur_anfanger/file/icon_Workshop_Blumenstrauß_binden_Bildquelle_pixabay-rawpixel.jpg
END:VEVENT

END:VCALENDAR
