BEGIN:VCALENDAR
VERSION:2.0
CALSCALE:GREGORIAN
PRODID:https://kalender.karlsruhe.de/db/termine/
METHOD:PUBLISH
BEGIN:VEVENT
UID:580231
ORGANIZER;CN=Naturschutzzentrum Karlsruhe-Rappenwört:MAILTO:info@nazka.de
LOCATION:Naturschutzzentrum Karlsruhe-Rappenwört
SUMMARY:Tag der offenen Tür
DESCRIPTION;ENCODING=QUOTED-PRINTABLE:Buntes Programm f=C3=BCr Gro=C3=9F und Klein=0D=0A=0D=0A  Das Naturschutzzentrum bi
 etet ein buntes Programm f=C3=BCr Gro=C3=9F und Klein mit Bastel- und Werka
 ngeboten\, Wasserspielen\, Apfelsaft selber pressen\, Greifvogelschau\, Surviva
 l-Armb=C3=A4nder drehen und vielem mehr.    In der Cafeteria erwartet Sie e
 ine reiche Kuchenauswahl und im Freien gibt es feine Speisen und Getr=C3=A4
 nke.    Bitte beachten Sie auch die Anzeigen in der Tagespresse! =20
URL:https://kalender.karlsruhe.de/db/termine/stadtleben/tag_der_offenen_tur-1
CLASS:PUBLIC
DTSTART:20260920T110000
DTEND:20260920T170000
DTSTAMP:20260324T102234
CATEGORIES:Stadtleben
ATTACH:https://kalender.karlsruhe.de/db/termine/stadtleben/tag_der_offenen_tur-1/file/icon_Logo Nazka 3,0 cm.jpg
END:VEVENT

END:VCALENDAR
