BEGIN:VCALENDAR
VERSION:2.0
CALSCALE:GREGORIAN
PRODID:https://kalender.karlsruhe.de/db/termine/
METHOD:PUBLISH
BEGIN:VEVENT
UID:580928
ORGANIZER;CN=Zukunftsraum:MAILTO:info@quartierzukunft.de
LOCATION:Zukunftsraum für Nachhaltigkeit und Wissenschaft
SUMMARY:Tea-time for democracy
DESCRIPTION;ENCODING=QUOTED-PRINTABLE:Der Ehrentag. F=C3=BCr dich. F=C3=BCr uns. F=C3=BCr alle. im Rahmen der Aus
 stellung von Renate Helene Schweizer=0D=0A=0D=0A    Der Ehrentag. F=C3=BCr dich. F
 =C3=BCr uns. F=C3=BCr alle.      Eine gemeinsame Initiative des Bundespr=C3
 =A4sidenten und der Deutschen Stiftung f=C3=BCr Engagement und Ehrenamt    
 Im=C2=A0Miteinander=C2=A0f=C3=BCr DemokraTEA - gemeinsames Teetrinken\, Stor
 ytelling\, gegenseitiges Zuh=C3=B6ren\, Kn=C3=BCpfen am WeltenB=C3=BCrgerNetz
  (Netz der Generationen\, Religionen und Nationen)\, Begegnung im Miteinander
  in der Ausstellung DemokraTEA-Time - \,=C2=A0Demokratie braucht Empathie un
 d Zuh=C3=B6ren\, Mitmenschlichkeit\, K=C3=BCnstler_in Verantwortung.=C2=A0Daz
 u werden Mitglieder aus der Kunst\, Kultur und Stadtpolitik eingeladen\, um d
 en Wert von Demokratie zu erkennen und zu st=C3=A4rken.    =E2=80=9EEine of
 fene\, demokratische Gesellschaft ist die schwerste aller Gesellschaften\, de
 nn sie fordert den Mut zur Eigen-Verantwortlichkeit\, Phantasie\, Kreativit
 =C3=A4t\, (Selbst-) Reflektion und zum Mithandeln - jeden Tag auf=E2=80=98s 
 Neue=E2=80=9C Renate Schweizer\, 2020 =20
URL:https://kalender.karlsruhe.de/db/termine/stadtleben/tea_time_for_democracy
CLASS:PUBLIC
DTSTART:20260523T140000
DTEND:20260523T180000
DTSTAMP:20260415T102016
CATEGORIES:Stadtleben
ATTACH:https://kalender.karlsruhe.de/db/termine/stadtleben/tea_time_for_democracy/file/icon_IMG_2512.jpg
END:VEVENT

END:VCALENDAR
