BEGIN:VCALENDAR
VERSION:2.0
CALSCALE:GREGORIAN
PRODID:https://kalender.karlsruhe.de/db/termine/
METHOD:PUBLISH
BEGIN:VEVENT
UID:577758
ORGANIZER;CN=HWK Gärtnerei Grötzingen:MAILTO:gaertnerei@hwk.com
LOCATION:HWK Gärtnerei Grötzingen
SUMMARY:Tierfreundliche Sträucher und Hecken im Garten
DESCRIPTION;ENCODING=QUOTED-PRINTABLE:In der HWK G=C3=A4rtnerei=0D=0A=0D=0A  Tierfreundliche Str=C3=A4ucher und Hecken im
  Garten: Einf=C3=BChrung heimische und konventionelle Str=C3=A4ucher\, Eigen
 heiten und =C3=B6kologische Bedeutung =E2=80=93 Begehung Verkaufsfl=C3=A4ch
 e\, Sortiment =E2=80=93 Einsatzbereiche von Geh=C3=B6lzen im Garten\, z.B. So
 lit=C3=A4rstr=C3=A4ucher\, Hecken\, =E2=80=93 Fachgerechter R=C3=BCckschnitt 
 von Hecken    Geleitet wird der Workshop von     Michaela Senk    Gartenspi
 elraum =E2=80=93 Naturnahe Gestaltung von G=C3=A4rten und Spielr=C3=A4umen
 =C2=A0die ihr Fachwissen und viele praktische Tipps aus ihrer langj=C3=A4hr
 igen Erfahrung mit Ihnen teilt.      Kosten:    49 Euro      Anmeldung:    
     Eine=C2=A0verbindliche Anmeldung=C2=A0erfolgt per=C2=A0E-Mail an=C2=A0g
 aertnerei@hwk.com.      Mit Ihrer Anmeldung erkl=C3=A4ren Sie sich mit unse
 ren Teilnahmebedingungen einverstanden. Wir danken f=C3=BCr Ihr Verst=C3=A4
 ndnis und freuen uns auf einen inspirierenden\, kreativen Workshop mit Ihnen
 !          Teilnahmebedingungen f=C3=BCr unsere Workshops      Wir freuen u
 ns sehr\, dass Sie an einem unserer Workshops teilnehmen m=C3=B6chten! Damit
  alles reibungslos verl=C3=A4uft\, bitten wir um Beachtung der folgenden Hin
 weise:      Teilnehmerzahl:    =0D=0A  Unsere Workshops finden ab     mindesten
 s 5 Teilnehmern    statt und sind auf     maximal 12 Personen    begrenzt. 
 So k=C3=B6nnen wir eine angenehme Atmosph=C3=A4re und pers=C3=B6nliche Betr
 euung gew=C3=A4hrleisten.    Absage durch uns:  =0D=0A  Sollte die Mindestteiln
 ehmerzahl einmal nicht erreicht werden\, behalten wir uns vor\, den Workshop
 =C2=A0bis sp=C3=A4testens 24 Stunden vor Beginn=C2=A0abzusagen. In diesem F
 all informieren wir Sie selbstverst=C3=A4ndlich umgehend.      Anmeldung:  
     =0D=0A   Eine=C2=A0verbindliche Anmeldung    erfolgt per E-Mail an     gaer
 tnerei@hwk.com.        Bezahlung:    =0D=0A  Die     Workshopgeb=C3=BChr    wir
 d     zu Beginn der Veranstaltung in bar vor Ort=C2=A0bezahlt.        Haftu
 ng    :  =0D=0A  Die Teilnahme am Workshop erfolgt     auf eigene Gefahr.    F
 =C3=BCr Unf=C3=A4lle\, Verletzungen oder Sch=C3=A4den an pers=C3=B6nlichen G
 egenst=C3=A4nden =C3=BCbernehmen wir keine Haftung.        Stornierungsbedi
 ngungen      Sollten Sie nach Ihrer Anmeldung doch nicht am Workshop teilne
 hmen k=C3=B6nnen\, gelten folgende Regelungen:      Bis 21 Tage vor der Vera
 nstaltung: Eine Absage ist kostenfrei m=C3=B6glich.        Bis 14 Tage vor 
 der Veranstaltung: Es wird eine Stornogeb=C3=BChr in H=C3=B6he von 25 % der
  Workshopgeb=C3=BChr f=C3=A4llig.        Weniger als 14 Tage vor der Verans
 taltung oder bei Nichterscheinen: Es wird eine Stornogeb=C3=BChr in H=C3=B6
 he von 100 % der Workshopgeb=C3=BChr berechnet. Gerne kann jedoch eine Ersa
 tzperson den gebuchten Platz =C3=BCbernehmen.     =20
URL:https://kalender.karlsruhe.de/db/termine/stadtleben/tierfreundliche_straucher_und_hecken_im_garten
CLASS:PUBLIC
DTSTART:20260912T110000
DTEND:20260912T130000
DTSTAMP:20260120T120029
CATEGORIES:Stadtleben
ATTACH:https://kalender.karlsruhe.de/db/termine/stadtleben/tierfreundliche_straucher_und_hecken_im_garten/file/icon_Workshop_Tierfreundliche_Sträucher_Bildquelle_pixabay-AnnetteMeyer.jpg
END:VEVENT

END:VCALENDAR
