BEGIN:VCALENDAR
VERSION:2.0
CALSCALE:GREGORIAN
PRODID:https://kalender.karlsruhe.de/db/termine/
METHOD:PUBLISH
BEGIN:VEVENT
UID:577725
ORGANIZER;CN=Agentur Timke:MAILTO:info@timke-flohmarkt.de
LOCATION:Karlsruhe Messplatz
SUMMARY:Traditioneller Großflohmarkt
DESCRIPTION;ENCODING=QUOTED-PRINTABLE:Ein bunter Tummelplatz f=C3=BCr Feilscher und Tr=C3=B6dler.=0D=0A=0D=0A  Neben hoch
 wertigen Sammlerst=C3=BCcken und mehr oder weniger  renovierungsbed=C3=BCrf
 tigen M=C3=B6beln warten Kinderspielsachen\, B=C3=BCcher\,  Schallplatten\, Se
 condhandkleidung und jede Menge Kuriosit=C3=A4ten auf neue  Besitzer. Und w
 eil Bummeln und Feilschen hungrig machen ist nat=C3=BCrlich  auch f=C3=BCr 
 das leibliche Wohl gesorgt.    Wer seinen Dachboden oder Keller durchst=C3
 =B6bert und seine Entdeckungen zu Geld machen will\, ist hier genau richtig.
     Weiterer Termin: 12. September 2026  =0D=0A  =0D=0A =20
URL:https://kalender.karlsruhe.de/db/termine/stadtleben/traditioneller_groflohmarkt-12
CLASS:PUBLIC
DTSTART:20260718T080000
DTEND:20260718T150000
DTSTAMP:20260108T102614
CATEGORIES:Stadtleben
ATTACH:https://kalender.karlsruhe.de/db/termine/stadtleben/traditioneller_groflohmarkt-12/file/icon_Depositphotos_29873789_xl-2015.jpg
END:VEVENT

END:VCALENDAR
