BEGIN:VCALENDAR
VERSION:2.0
CALSCALE:GREGORIAN
PRODID:https://kalender.karlsruhe.de/db/termine/
METHOD:PUBLISH
BEGIN:VEVENT
UID:580958
ORGANIZER;CN=Klimabündnis:MAILTO:info@klimabuendnis-karlsruhe.de
LOCATION:TRIANGEL Transfer | Kultur | Raum
SUMMARY:TRIALOG | Wärme aus Erdgas – Wie lange noch?
DESCRIPTION;ENCODING=QUOTED-PRINTABLE:Ein Abend\, viele Perspektiven =E2=80=93 Podiumsdiskussion mit Expertinnen u
 nd Experten aus Wissenschaft\, Wirtschaft und Gesellschaft.=0D=0A=0D=0A  Wie soll di
 e Fernw=C3=A4rme f=C3=BCr Karlsruhe erzeugt werden\, wenn das Kohlekraftwerk
  RDK8 demn=C3=A4chst stillgelegt wird? Die Stadtwerke setzen unter anderem 
 auf Gasmotoren\, betrieben mit fossilem Erdgas. Dass damit erhebliche Preisr
 isiken verbunden sind\, zeigt uns die aktuelle Weltlage =C3=BCberdeutlich. A
 ber auch wegen der Klimaziele dr=C3=A4ngen Umweltverb=C3=A4nde auf den schn
 ellen Gasausstieg. Ist es eine gute Strategie\, in Anlagen zur Gasverbrennun
 g zu investieren\, wenn klimafreundliche Alternativen wie die Flussw=C3=A4rm
 epumpe zur Verf=C3=BCgung stehen?    =C3=9Cber diese Fragen diskutieren Fac
 hleute aus Wirtschaft\, Wissenschaft und Zivilgesellschaft am Dienstag\, den 
 5. Mai von 17:00 bis 19:00 Uhr bei einer Podiumsdiskussion im TRIANGEL am K
 ronenplatz.    Der Eintritt ist frei\, eine Anmeldung ist nicht erforderlich
 .    Die Teilnehmenden:    Dr. Anne Held (KEK =E2=80=93 Karlsruher Energie-
  und Klimaschutzagentur gGmbH)    Dr. Steffen Knapp (Bereichsleiter Strateg
 ie | Handel | Forschung\, Stadtwerke Karlsruhe)    Benjamin K=C3=B6hler (=C3
 =96ko-Institut Freiburg\, Bereich Energie & Klimaschutz)    Elke D=C3=BCnnho
 ff (Umweltforum Mannheimer Agenda 21 e.V.)    Moderation: Ivo Pietrzak    D
 as Publikum wird ausreichend Gelegenheit haben\, Fragen an das Podium zu ste
 llen.    Beratungsangebot zu Einzelheizungen am 5. Mai ab 16 Uhr    Globale
  Spannungen und geopolitische Unw=C3=A4gbarkeiten haben in den vergangenen 
 Jahren zu erheblichen Preisschocks bei Gas und =C3=96l gef=C3=BChrt und ver
 unsichern weiterhin viele B=C3=BCrgerinnen und B=C3=BCrger. Sie fragen sich
 : Wie und wie schnell k=C3=B6nnen Einzelheizungen auf klimafreundliche L=C3
 =B6sungen umgestellt werden? Die Energieberatung der Karlsruher Energie und
  Klimaschutzagentur (KEK) umrahmt die Podiumsdiskussion mit einem Beratungs
 angebot f=C3=BCr alle Interessierten von 16 =E2=80=93 17 sowie 19 =E2=80=93
  20 Uhr\, =C2=A0ebenfalls in den R=C3=A4umen des TRIANGEL am Kronenplatz.   
  Hintergrund:    W=C3=A4hrend die Raffinerie MiRO im Wesentlichen die W=C3
 =A4rme f=C3=BCr die Grundlast des Karlsruher Fernw=C3=A4rmebedarfs liefert\,
  spielt das Kohlekraftwerk im Rheinhafen derzeit noch eine wichtige Rolle f
 =C3=BCr die sogenannte Mittellast\, also den erh=C3=B6hten W=C3=A4rmebedarf 
 in der k=C3=A4lteren Jahreszeit. Im Rahmen des Kohleausstiegs soll RDK8 abe
 r schon bald in die Netzreserve gehen. F=C3=BCr den regul=C3=A4ren Bedarf k
 ann es dann nicht mehr genutzt werden. F=C3=BCr den Ersatz seiner W=C3=A4rm
 eleistung planen die Stadtwerke zweigleisig: Eine oder mehrere Flussw=C3=A4
 rmepumpe(n) sollen zum Einsatz kommen\, solange der Strompreis den Betrieb r
 entabel macht. Steigt der Strompreis =C3=BCber eine kritische Marke\, sollen
  stattdessen Gasmotoren angeworfen werden\, die dann =E2=80=93 befeuert zun
 =C3=A4chst mit fossilem Erdgas =E2=80=93 gleichzeitig W=C3=A4rme und Strom 
 produzieren sollen. Beide Anlagen =E2=80=93 Flussw=C3=A4rmepumpe und Gasmot
 oren =E2=80=93 m=C3=BCssen erst noch gebaut werden.    In beiden F=C3=A4lle
 n kann der Bau mit Steuermitteln massiv gef=C3=B6rdert werden\, dennoch w=C3
 =A4re die Investition eine gro=C3=9Fe Herausforderung f=C3=BCr die Stadtwer
 ke. Aus der Sicht des Klimab=C3=BCndnisses stellen sich besonders kritische
  Fragen bei den Gasmotoren. Wird sich das Geld der Steuerzahler trotz steig
 ender Gaspreise und CO2-Bepreisung jemals amortisieren? Hat der geplante Um
 stieg von fossilem Gas auf Wasserstoff in absehbarer Zeit =C3=BCberhaupt ei
 ne Chance\, wenn Wasserstoff nicht nur sehr teuer\, sondern auch sehr knapp s
 ein wird? Werden die Gasmotoren nicht am Ende viel l=C3=A4nger als geplant 
 mit fossilen Gas betrieben werden und so die Klimakrise anheizen? Das Klima
 b=C3=BCndnis sucht mit der Podiumsdiskussion Antworten f=C3=BCr eine verant
 wortliche Klimapolitik der Stadt Karlsruhe. =20
URL:https://kalender.karlsruhe.de/db/termine/stadtleben/trialog_warme_aus_erdgas_wie_lange_noch-1
CLASS:PUBLIC
DTSTART:20260505T160000
DTEND:20260505T200000
DTSTAMP:20260416T122724
CATEGORIES:Stadtleben
ATTACH:https://kalender.karlsruhe.de/db/termine/stadtleben/trialog_warme_aus_erdgas_wie_lange_noch-1/file/icon_BrE4-4gBRLbN.jpg
END:VEVENT

END:VCALENDAR
