BEGIN:VCALENDAR
VERSION:2.0
CALSCALE:GREGORIAN
PRODID:https://kalender.karlsruhe.de/db/termine/
METHOD:PUBLISH
BEGIN:VEVENT
UID:580930
ORGANIZER;CN=TRIANGEL Transfer | Kultur | Raum:MAILTO:hello@triangel.space
LOCATION:TRIANGEL Transfer | Kultur | Raum
SUMMARY:TRIALOG | Wärme aus Erdgas – Wie lange noch?
DESCRIPTION;ENCODING=QUOTED-PRINTABLE:Ein Abend\, viele Perspektiven =E2=80=93 Podiumsdiskussion mit Expertinnen u
 nd Experten aus Wissenschaft\, Wirtschaft und Gesellschaft.=0D=0A=0D=0A  Wie soll di
 e Fernw=C3=A4rme f=C3=BCr Karlsruhe erzeugt werden\, wenn das Kohlekraftwerk
  RDK8 demn=C3=A4chst stillgelegt wird? Die Stadtwerke setzen unter anderem 
 auf Gasmotoren\, betrieben mit fossilem Erdgas. Dass damit erhebliche Preisr
 isiken verbunden sind\, zeigt uns die aktuelle Weltlage =C3=BCberdeutlich. A
 ber auch wegen der Klimaziele dr=C3=A4ngen Umweltverb=C3=A4nde auf den schn
 ellen Gasausstieg. Ist es eine gute Strategie\, in Anlagen zur Gasverbrennun
 g zu investieren\, wenn klimafreundliche Alternativen wie die Flussw=C3=A4rm
 epumpe zur Verf=C3=BCgung stehen?    =C3=9Cber diese Fragen diskutieren Fac
 hleute aus Wirtschaft\, Wissenschaft und Zivilgesellschaft am Dienstag\, den 
 5. Mai von 17:00 bis 19:00 Uhr bei einer Podiumsdiskussion im TRIANGEL am K
 ronenplatz.    Der Eintritt ist frei\, eine Anmeldung ist nicht erforderlich
 .    Die Teilnehmenden:      Dr. Anne Held (KEK =E2=80=93 Karlsruher Energi
 e- und Klimaschutzagentur gGmbH)      Dr. Steffen Knapp (Bereichsleiter Str
 ategie | Handel | Forschung\, Stadtwerke Karlsruhe)      Benjamin K=C3=B6hle
 r (=C3=96ko-Institut Freiburg\, Bereich Energie & Klimaschutz)      Elke D
 =C3=BCnnhoff (Umweltforum Mannheimer Agenda 21 e.V.)      Moderation: Ivo P
 ietrzak      Das Publikum wird ausreichend Gelegenheit haben\, Fragen an das
  Podium zu stellen.    Beratungsangebot zu Einzelheizungen am 5. Mai ab 16 
 Uhr    Globale Spannungen und geopolitische Unw=C3=A4gbarkeiten haben in de
 n vergangenen Jahren zu erheblichen Preisschocks bei Gas und =C3=96l gef=C3
 =BChrt und verunsichern weiterhin viele B=C3=BCrgerinnen und B=C3=BCrger. S
 ie fragen sich: Wie und wie schnell k=C3=B6nnen Einzelheizungen auf klimafr
 eundliche L=C3=B6sungen umgestellt werden? Die Energieberatung der Karlsruh
 er Energie und Klimaschutzagentur (KEK) umrahmt die Podiumsdiskussion mit e
 inem Beratungsangebot f=C3=BCr alle Interessierten von 16 =E2=80=93 17 sowi
 e 19 =E2=80=93 20 Uhr\,=C2=A0 ebenfalls in den R=C3=A4umen des TRIANGEL am K
 ronenplatz.    Hintergrund:    W=C3=A4hrend die Raffinerie MiRO im Wesentli
 chen die W=C3=A4rme f=C3=BCr die Grundlast des Karlsruher Fernw=C3=A4rmebed
 arfs liefert\, spielt das Kohlekraftwerk im Rheinhafen derzeit noch eine wic
 htige Rolle f=C3=BCr die sogenannte Mittellast\, also den erh=C3=B6hten W=C3
 =A4rmebedarf in der k=C3=A4lteren Jahreszeit. Im Rahmen des Kohleausstiegs 
 soll RDK8 aber schon bald in die Netzreserve gehen. F=C3=BCr den regul=C3
 =A4ren Bedarf kann es dann nicht mehr genutzt werden. F=C3=BCr den Ersatz s
 einer W=C3=A4rmeleistung planen die Stadtwerke zweigleisig: Eine oder mehre
 re Flussw=C3=A4rmepumpe(n) sollen zum Einsatz kommen\, solange der Stromprei
 s den Betrieb rentabel macht. Steigt der Strompreis =C3=BCber eine kritisch
 e Marke\, sollen stattdessen Gasmotoren angeworfen werden\, die dann =E2=80
 =93 befeuert zun=C3=A4chst mit fossilem Erdgas =E2=80=93 gleichzeitig W=C3
 =A4rme und Strom produzieren sollen. Beide Anlagen =E2=80=93 Flussw=C3=A4rm
 epumpe und Gasmotoren =E2=80=93 m=C3=BCssen erst noch gebaut werden.    In 
 beiden F=C3=A4llen kann der Bau mit Steuermitteln massiv gef=C3=B6rdert wer
 den\, dennoch w=C3=A4re die Investition eine gro=C3=9Fe Herausforderung f=C3
 =BCr die Stadtwerke. Aus der Sicht des Klimab=C3=BCndnisses stellen sich be
 sonders kritische Fragen bei den Gasmotoren. Wird sich das Geld der Steuerz
 ahler trotz steigender Gaspreise und CO2-Bepreisung jemals amortisieren? Ha
 t der geplante Umstieg von fossilem Gas auf Wasserstoff in absehbarer Zeit 
 =C3=BCberhaupt eine Chance\, wenn Wasserstoff nicht nur sehr teuer\, sondern 
 auch sehr knapp sein wird? Werden die Gasmotoren nicht am Ende viel l=C3=A4
 nger als geplant mit fossilen Gas betrieben werden und so die Klimakrise an
 heizen? Das Klimab=C3=BCndnis sucht mit der Podiumsdiskussion Antworten f
 =C3=BCr eine verantwortliche Klimapolitik der Stadt Karlsruhe. =20
URL:https://kalender.karlsruhe.de/db/termine/stadtleben/trialog_warme_aus_erdgas_wie_lange_noch
CLASS:PUBLIC
DTSTART:20260507T190000
DTEND:20260507T230000
DTSTAMP:20260415T101956
CATEGORIES:Stadtleben
ATTACH:https://kalender.karlsruhe.de/db/termine/stadtleben/trialog_warme_aus_erdgas_wie_lange_noch/file/icon_TRIALOG – Erdgas 16zu9.jpg
END:VEVENT

END:VCALENDAR
