BEGIN:VCALENDAR
VERSION:2.0
CALSCALE:GREGORIAN
PRODID:https://kalender.karlsruhe.de/db/termine/
METHOD:PUBLISH
BEGIN:VEVENT
UID:577693
ORGANIZER;CN=BrettspielSuchties e.V.:MAILTO:kontakt@brettspielsuchties.de
LOCATION:BrettspielSuchties e.V. - Vereinsheim
SUMMARY:Triple K Boardgame Café 'light'
DESCRIPTION;ENCODING=QUOTED-PRINTABLE:=C3=BCber 450 verschiedene Brettspiele bei Kaffe und Kuchen=0D=0A=0D=0A  Bist du ei
 n Fan von Brett- oder Kartenspielen? Fehlen dir die Mitspieler*innen oder m
 =C3=B6chtest du einfach mal etwas Neues ausprobieren? Dann komm zu uns!    
 In gem=C3=BCtlicher Atmosph=C3=A4re in unserem Vereinsheim (Liststra=C3=9Fe
  22\, Untergeschoss\, Karlsruhe) erwartet dich eine Auswahl von =C3=BCber 450
  Spielen. Genie=C3=9Fe dabei eine Tasse Kaffee und hausgemachten Kuchen\, w
 =C3=A4hrend du nette Gespr=C3=A4che mit Gleichgesinnten f=C3=BChrst.    Ob 
 klassische Spiele wie Schach und M=C3=BChle oder die neuesten Spieleneuheit
 en =E2=80=93 bei uns findet jeder das passende Spiel! Unsere erfahrenen Reg
 elerkl=C3=A4rer*innen stehen dir zur Seite\, um dir bei der Auswahl und den 
 Regeln zu helfen.    Bitte beachte\, dass eine Anmeldung =C3=BCber unsere Ho
 mepage erforderlich ist\, da die Pl=C3=A4tze auf ca. 40 Personen begrenzt si
 nd.    Wir freuen uns auf deinen Besuch! =20
URL:https://kalender.karlsruhe.de/db/termine/stadtleben/triple_k_boardgame_cafe_light-1
CLASS:PUBLIC
DTSTART:20260221T140000
DTEND:20260221T220000
DTSTAMP:20260107T083628
CATEGORIES:Stadtleben
ATTACH:https://kalender.karlsruhe.de/db/termine/stadtleben/triple_k_boardgame_cafe_light-1/file/icon_Flyer Plakate (4).jpg
END:VEVENT

END:VCALENDAR
