BEGIN:VCALENDAR
VERSION:2.0
CALSCALE:GREGORIAN
PRODID:https://kalender.karlsruhe.de/db/termine/
METHOD:PUBLISH
BEGIN:VEVENT
UID:579333
ORGANIZER;CN=Naturschutzzentrum Karlsruhe-Rappenwört:MAILTO:info@nazka.de
LOCATION:Daxlanden, Straßenbahnhaltestelle „Waidweg” (Linie 3)
SUMMARY:Vogelstimmen-Abendspaziergang in die Fritschlach
DESCRIPTION;ENCODING=QUOTED-PRINTABLE:F=C3=BChrung=0D=0A=0D=0A  Foto:=C2=A0=C2=A9H.Dannenmayer    Ein Angebot f=C3=BCr al
 le Vogelfreunde\, die nicht gerne fr=C3=BCh aufstehen und dennoch das reiche
  Vogelleben an Federbach und Saumseen kennenlernen m=C3=B6chten.  =0D=0A  =0D=0A  A
 bschlusseinkehr vorgesehen.  =0D=0A  =0D=0A     Bitte Fernglas mitbringen!   =0D=0A   $
 $   Referenten:    Artur Bossert (NABU KA)\, Andreas Wolf (NAZ KA)  =0D=0A     K
 ostenfreie Veranstaltung        Anmeldung bis 30.04.2026 erforderlich   =20
URL:https://kalender.karlsruhe.de/db/termine/stadtleben/vogelstimmen_abendspaziergang_in_die_fritschlach
CLASS:PUBLIC
DTSTART:20260505T183000
DTEND:20260505T203000
DTSTAMP:20260223T081127
CATEGORIES:Stadtleben
ATTACH:https://kalender.karlsruhe.de/db/termine/stadtleben/vogelstimmen_abendspaziergang_in_die_fritschlach/file/icon_Gartenrotschwanz_web (c) Dannenmayer.jpg
END:VEVENT

END:VCALENDAR
