BEGIN:VCALENDAR
VERSION:2.0
CALSCALE:GREGORIAN
PRODID:https://kalender.karlsruhe.de/db/termine/
METHOD:PUBLISH
BEGIN:VEVENT
UID:572675
ORGANIZER;CN=GloW Karlsruhe e. V.:MAILTO:info@glow-karlsruhe.org
LOCATION:Pyramide auf dem Marktplatz (Treffpunkt)
SUMMARY:Von Hitze-Hotspots zu Zukunftsorten
DESCRIPTION;ENCODING=QUOTED-PRINTABLE:Ein KlimaWalk durch Karlsruhe=0D=0A=0D=0A  Warum ist es in der Stadt so hei=C3=9F -
  und was hat das mit Klimawandel und Gerechtigkeit zu tun? Bei unserem Stad
 trundgang durch Karlsruhe gibt's Antworten zum Mitmachen\, Nachdenken und We
 iterfragen - lokal erlebbar und global gedacht. Diese Veranstaltung ist Tei
 l der bundesweiten Aktionswoche "Woche der Klimaanpassung".    Startpunkt i
 st die Pyramide am Marktplatz. Wir sind durch einen Regenschirm erkennbar. 
      Anmeldung erbeten unter    info@glow-karlsruhe.org\, Teilnehmerzahl ist
  begrenzt\, die Teilnahme ist kostenlos.  =0D=0A =20
URL:https://kalender.karlsruhe.de/db/termine/stadtleben/von_hitze_hotspots_zu_zukunftsorten
CLASS:PUBLIC
DTSTART:20250915T170000
DTEND:20250915T190000
DTSTAMP:20250723T134759
CATEGORIES:Stadtleben
ATTACH:https://kalender.karlsruhe.de/db/termine/stadtleben/von_hitze_hotspots_zu_zukunftsorten/file/icon_GloW Karlsruhe e. V..jpg
END:VEVENT

END:VCALENDAR
