BEGIN:VCALENDAR
VERSION:2.0
CALSCALE:GREGORIAN
PRODID:https://kalender.karlsruhe.de/db/termine/
METHOD:PUBLISH
BEGIN:VEVENT
UID:578921
ORGANIZER;CN=Forstamt Stadt Karlsruhe:MAILTO:waldpaedagogik@fa.karlsruhe.de
LOCATION:Oberreuter Hardtwald
SUMMARY:Wald im Klimawandel
DESCRIPTION;ENCODING=QUOTED-PRINTABLE:f=C3=BCr Erwachsene und Jugendliche ab 16 Jahren=0D=0A=0D=0A  Nach einer kurzen Ein
 f=C3=BChrung in die Klimawandel-Hotspot-Region Oberrhein richten wir unsere
 n Blick auf den Gesundheitszustand des Waldes. Dabei lernen Sie die wichtig
 sten einheimischen Baumarten kennen =E2=80=93 und welche Probleme sie mit z
 unehmender Trockenheit und Hitze haben.=C2=A0 Bei einem Spaziergang durch d
 en Oberreuter Wald gehen wir gemeinsam der Frage nach\, welche Herausforderu
 ngen dadurch f=C3=BCr den Stadtwald entstehen und welche L=C3=B6sungsans=C3
 =A4tze es gibt.      Referentin    : Nicole Hirsch\, F=C3=B6rsterin\, Klimaan
 passungs- und Risikomanagerin im Forstamt der Stadt Karlsruhe    Anmeldung 
 auf der Homepage bis 21. September      Kostenlose Veranstaltung - wir freu
 en uns =C3=BCber eine Spende!   =20
URL:https://kalender.karlsruhe.de/db/termine/stadtleben/wald_im_klimawandel
CLASS:PUBLIC
DTSTART:20260927T140000
DTEND:20260927T160000
DTSTAMP:20260211T095754
CATEGORIES:Stadtleben
ATTACH:https://kalender.karlsruhe.de/db/termine/stadtleben/wald_im_klimawandel/file/icon_26-09-27-Waldpaedagogik_KA_Klimawandel.jpg
END:VEVENT

END:VCALENDAR
