BEGIN:VCALENDAR
VERSION:2.0
CALSCALE:GREGORIAN
PRODID:https://kalender.karlsruhe.de/db/termine/
METHOD:PUBLISH
BEGIN:VEVENT
UID:580152
ORGANIZER;CN=Naturschutzzentrum Karlsruhe-Rappenwört:MAILTO:info@nazka.de
LOCATION:Naturschutzzentrum Karlsruhe-Rappenwört
SUMMARY:Waldhütten und –verstecke für große und kleine Abenteurer
DESCRIPTION;ENCODING=QUOTED-PRINTABLE:Ferienprogramm f=C3=BCr Kinder von 6 bis 10 Jahren=0D=0A=0D=0A  Mit den Materialien
 \, die Ihr vor Ort findet\, d=C3=BCrft ihr im Wald tolle H=C3=BCtten und Vers
 tecke nach euren Vorstellungen bauen.  =0D=0A  =0D=0A  Bringt bitte genug zum Vespe
 rn und Trinken sowie gute Waldkleidung mit.    =0D=0A     Leitung:    Ulrike Ro
 elle\, Naturp=C3=A4dagogin  =0D=0A     Kosten:    25 =E2=82=AC / Kind      Teiln
 ehmerzahl:    12 Kinder      Anmeldung mit=C2=A0Vorab=C3=BCberweisung der T
 eilnahmegeb=C3=BChr=C2=A0bis 08.09.26=C2=A0erforderlich     =20
URL:https://kalender.karlsruhe.de/db/termine/stadtleben/waldhutten_und_verstecke_fur_groe_und_kleine_abenteurer
CLASS:PUBLIC
DTSTART:20260911T093000
DTEND:20260911T143000
DTSTAMP:20260318T141148
CATEGORIES:Stadtleben
ATTACH:https://kalender.karlsruhe.de/db/termine/stadtleben/waldhutten_und_verstecke_fur_groe_und_kleine_abenteurer/file/icon_Logo Nazka 3,0 cm.jpg
END:VEVENT

END:VCALENDAR
