BEGIN:VCALENDAR
VERSION:2.0
CALSCALE:GREGORIAN
PRODID:https://kalender.karlsruhe.de/db/termine/
METHOD:PUBLISH
BEGIN:VEVENT
UID:580864
ORGANIZER;CN=Klimabündnis:MAILTO:info@klimabuendnis-karlsruhe.de
LOCATION:Bürgerzentrum Mühlburg
SUMMARY:Walk & Talk – Stadtspaziergänge in Mühlburg
DESCRIPTION;ENCODING=QUOTED-PRINTABLE:Impulse f=C3=BCr M=C3=BChlburg=0D=0A=0D=0A  Das Klimab=C3=BCndnis Karlsruhe l=C3=A4
 dt herzlich zu Walk & Talk =E2=80=93 Stadtspazierg=C3=A4nge in M=C3=BChlbur
 g unter dem Motto "Impulse f=C3=BCr M=C3=BChlburg!" ein.  =0D=0A  =0D=0A  Der erste
  Stadtspaziergang findet am Donnerstag\, 23.04.2026\, 18-19 Uhr statt.  =0D=0A  T
 reffpunkt: B=C3=BCrgerzentrum M=C3=BChlburg\, Weinbrennerstra=C3=9Fe 79a  =0D=0A
   Weitere Termine: 21.5.\, 25.6.\, 23.7.2026  =0D=0A  =0D=0A  Wie k=C3=B6nnen wir M
 =C3=BChlburg attraktiver machen? Wie schaffen wir mehr Lebensqualit=C3=A4t?
  Kommen Sie ins Gespr=C3=A4ch\, tauschen Sie sich aus\, entwickeln Sie gemein
 sam Ideen und M=C3=B6glichkeiten der Umsetzung. Wir freuen uns =C3=BCber Ih
 re Teilnahme!  =0D=0A =20
URL:https://kalender.karlsruhe.de/db/termine/stadtleben/walk_talk_stadtspaziergange_in_muhlburg
CLASS:PUBLIC
DTSTART:20260423T180000
DTEND:20260423T190000
DTSTAMP:20260413T100438
CATEGORIES:Stadtleben
ATTACH:https://kalender.karlsruhe.de/db/termine/stadtleben/walk_talk_stadtspaziergange_in_muhlburg/file/icon_Walk'n'Talk Flyer (Instagram-Post (45)).jpg
END:VEVENT

END:VCALENDAR
