BEGIN:VCALENDAR
VERSION:2.0
CALSCALE:GREGORIAN
PRODID:https://kalender.karlsruhe.de/db/termine/
METHOD:PUBLISH
BEGIN:VEVENT
UID:578126
ORGANIZER;CN=HWK Gärtnerei Grötzingen:MAILTO:gaertnerei@hwk.com
LOCATION:HWK Gärtnerei Grötzingen
SUMMARY:Weiden flechten „Weidenschnecke auf Stahlstab“
DESCRIPTION;ENCODING=QUOTED-PRINTABLE:In der HWK G=C3=A4rtnerei=0D=0A=0D=0A  Wir fertigen ein echtes Hingucker-Objekt f
 =C3=BCr Ihren Garten.    Zun=C3=A4chst flechten wir aus drei=C2=A0dickeren 
 langen Weiden ein ca. 2 Meter langes Band.=C2=A0und setzen die Wandstaken e
 in.=C2=A0Dieses Band kann mit unterschiedlich farbigen Weiden ausgeflochten
  werden und wird im Anschluss zu einer =E2=80=9ESchnecke=E2=80=9C aufgeroll
 t. Diese Schnecke schieben wir durch den Stahlstab und fixieren sie.    Doz
 entin:    Ursula Weissert-Hartmann\, Flechtwerkgestalterin\,=C2=A0www.kreativ
 es-flechtwerk.de=C2=A0und=C2=A0www.kleingartacher-weidenlehrpfad.de    Kost
 en:    55=E2=82=AC einschlie=C3=9Flich=C2=A0Weidenmaterial und Stahlstange 
    Anmeldung:          Eine=C2=A0verbindliche Anmeldung=C2=A0erfolgt per E-
 Mail an=C2=A0gaertnerei@hwk.com.          Mit Ihrer Anmeldung erkl=C3=A4ren
  Sie sich mit unseren Teilnahmebedingungen einverstanden. Wir danken f=C3
 =BCr Ihr Verst=C3=A4ndnis und freuen uns auf einen inspirierenden\, kreative
 n Workshop mit Ihnen!         =20
URL:https://kalender.karlsruhe.de/db/termine/stadtleben/weiden_flechten_weidenschnecke_auf_stahlstab
CLASS:PUBLIC
DTSTART:20260425T093000
DTEND:20260425T133000
DTSTAMP:20260120T120029
CATEGORIES:Stadtleben
ATTACH:https://kalender.karlsruhe.de/db/termine/stadtleben/weiden_flechten_weidenschnecke_auf_stahlstab/file/icon_Workshop_Weidenflechten_Weidenschnecke_Bildquelle_U. Weissert-Hartmann.jpg
END:VEVENT

END:VCALENDAR
