BEGIN:VCALENDAR
VERSION:2.0
CALSCALE:GREGORIAN
PRODID:https://kalender.karlsruhe.de/db/termine/
METHOD:PUBLISH
BEGIN:VEVENT
UID:575982
ORGANIZER;CN=HWK Gärtnerei Grötzingen:MAILTO:gaertnerei@hwk.com
LOCATION:HWK Gärtnerei Grötzingen
SUMMARY:Weidenherzen selbst flechten oder vom Profi kaufen
DESCRIPTION;ENCODING=QUOTED-PRINTABLE:In der HWK G=C3=A4rtnerei=0D=0A=0D=0A  An diesem Samstag ist ab 9.30 Uhr Ursula Wei
 ssert-Hartmann in der G=C3=A4rtnerei. Frau Weissert-Hartmann ist eine erfah
 rene Flechtwerkgestalterin und leitet auch die Workshops\, die wir in diesem
  Bereich anbieten.    F=C3=BCr alle\, denen ein ganzer Workshop zu viel ist\,
  bietet sich heute die Gelegenheit\, ein kleines =E2=80=9EHerz to go=E2=80
 =9C selbst zu flechten =E2=80=93 rechtzeitig zum Muttertag.=C2=A0Aus dicken
  vorbereiteten Weidenruten formen Sie ein Weidenherz. Die Ruten in der Mitt
 e werden ausgeflochten und dann zusammengebunden. Sie k=C3=B6nnen das Herz 
 mit einem Stock aufstellen oder es aufh=C3=A4ngen.=C2=A0Pro Herz zahlen Sie
  15 Euro.    F=C3=BCr alle\, die lieber direkt das Endprodukt kaufen\, hat Fr
 au Weissert-Hartmann genug Herzen dabei \;-).    Eine Anmeldung ist nicht er
 forderlich\, kommen Sie einfach vorbei.      An diesem Tag bieten wir auch F
 r=C3=BChst=C3=BCck (von 8 bis 12 Uhr) und Kinderbasteln (von 10 bis 15 Uhr)
  in der G=C3=A4rtnerei. =20
URL:https://kalender.karlsruhe.de/db/termine/stadtleben/weidenherzen_selbst_flechten_oder_vom_profi_kaufen
CLASS:PUBLIC
DTSTART:20260509T093000
DTEND:20260509T160000
DTSTAMP:20251110T092351
CATEGORIES:Stadtleben
ATTACH:https://kalender.karlsruhe.de/db/termine/stadtleben/weidenherzen_selbst_flechten_oder_vom_profi_kaufen/file/icon_Verkaufsstand_Flechtenherz_to_go_Bildquelle_U. Weissert-Hartmann.jpg
END:VEVENT

END:VCALENDAR
