BEGIN:VCALENDAR
VERSION:2.0
CALSCALE:GREGORIAN
PRODID:https://kalender.karlsruhe.de/db/termine/
METHOD:PUBLISH
BEGIN:VEVENT
UID:575660
ORGANIZER;CN=KME Karlsruhe Marketing und Event GmbH:MAILTO:info@karlsruhe-event.de
LOCATION:BBBank Wildpark
SUMMARY:Weihnachtliches Stadionsingen im BBBank Wildpark 2026
DESCRIPTION;ENCODING=QUOTED-PRINTABLE:Weihnachtliches Stadionsingen im BBBank Wildpark =E2=80=93 Gemeinsam und st
 immgewaltig ins Weihnachtsfest starten=0D=0A=0D=0A    Auch in diesem Jahr laden die
  KME Karlsruhe Marketing und Event GmbH gemeinsam mit den katholischen\, eva
 ngelischen und freien Kirchen sowie dem Karlsruher SC zu einem besonderen A
 dventserlebnis ein: Beim      Weihnachtlichen Stadionsingen      wird das W
 ildparkstadion zu einem Ort voller Musik und Gemeinschaft.      =0D=0A        D
 as gro=C3=9Fe Mitsing-Konzert bietet die M=C3=B6glichkeit\, selbst Teil eine
 s beeindruckenden Chors zu werden und gemeinsam bekannte Weihnachtslieder w
 ie      =E2=80=9EO du fr=C3=B6hliche=E2=80=9C      oder      =E2=80=9EStill
 e Nacht=E2=80=9C      anzustimmen =E2=80=93 erg=C3=A4nzt durch beliebte KSC
 -Songs. Freu dich auf einen stimmungsvollen Abend\, der festliche Vorfreude 
 und echte G=C3=A4nsehautmomente vereint.    =0D=0A      Foto: KME Karlsruhe Mar
 keting und Event GmbH | Foto: J=C3=BCrgen R=C3=B6sner   =20
URL:https://kalender.karlsruhe.de/db/termine/stadtleben/weihnachtliches_stadionsingen_im_bbbank_wildpark2026n
CLASS:PUBLIC
DTSTART:20261220T180000
DTSTAMP:20260113T155436
CATEGORIES:Stadtleben
ATTACH:https://kalender.karlsruhe.de/db/termine/stadtleben/weihnachtliches_stadionsingen_im_bbbank_wildpark2026n/file/icon_Stadionsingen_2025_©_KME_JürgenRösner_1.jpg
END:VEVENT

END:VCALENDAR
