BEGIN:VCALENDAR
VERSION:2.0
CALSCALE:GREGORIAN
PRODID:https://kalender.karlsruhe.de/db/termine/
METHOD:PUBLISH
BEGIN:VEVENT
UID:580548
ORGANIZER;CN=Naturschutzzentrum Karlsruhe-Rappenwört:MAILTO:info@nazka.de
LOCATION:Naturschutzzentrum Karlsruhe-Rappenwört
SUMMARY:Weihnachtssterne aus Naturmaterialien
DESCRIPTION;ENCODING=QUOTED-PRINTABLE:F=C3=BCr Kinder ab 7 Jahren=0D=0A=0D=0A  Mit Naturmaterialien aus Wald und Feld wer
 den Weihnachtssterne f=C3=BCr den Au=C3=9Fenbereich gebastelt. Ein Teil des
  Materials wird zur Verf=C3=BCgung gestellt\, einen Teil sammeln wir im unmi
 ttelbaren Umfeld vor Ort selbst. Bei Kaffee\, Tee und Weihnachtsgeb=C3=A4ck 
 stimmen wir uns auf die dunkle Jahreszeit ein\, w=C3=A4hrend ein w=C3=A4rmen
 des Feuer brennt. Ob gro=C3=9F\, ob klein\, f=C3=BCr den Innenbereich oder de
 n Garten\, ob h=C3=A4ngend\, liegend oder stehend\, bunt oder Ton in Ton: In u
 nserer Sternenwerkstatt hat die Kreativit=C3=A4t freien Lauf.  =0D=0A  =0D=0A  Fest
 es Schuhwerk\, warme Kleidung  =0D=0A  Selber mitbringen: Sammelkorb\, Rebschere\,
  weihnachtliches Dekomaterial\, falls gew=C3=BCnscht.  =0D=0A      Leitung    :
 =C2=A0Petra Jung\, Waldp=C3=A4dagogin  =0D=0A     Kosten:    32 =E2=82=AC / Kind
  in Begleitung eines Erwachsenen\, jede weitere Person 16 =E2=82=AC (inklusi
 ve Materialkosten)    Anmeldung mit=C2=A0Vorab=C3=BCberweisung der Teilnahm
 egeb=C3=BChr=C2=A0bis 19.11.26=C2=A0erforderlich. =20
URL:https://kalender.karlsruhe.de/db/termine/stadtleben/weihnachtssterne_aus_naturmaterialien-1
CLASS:PUBLIC
DTSTART:20261122T140000
DTEND:20261122T163000
DTSTAMP:20260330T083747
CATEGORIES:Stadtleben
ATTACH:https://kalender.karlsruhe.de/db/termine/stadtleben/weihnachtssterne_aus_naturmaterialien-1/file/icon_Logo Nazka 3,0 cm.jpg
END:VEVENT

END:VCALENDAR
