BEGIN:VCALENDAR
VERSION:2.0
CALSCALE:GREGORIAN
PRODID:https://kalender.karlsruhe.de/db/termine/
METHOD:PUBLISH
BEGIN:VEVENT
UID:579722
ORGANIZER;CN=Stadt Karlsruhe – Kinderbüro:MAILTO:kinderbuero@karlsruhe.de
LOCATION:Online Veranstaltung
SUMMARY:Wenn digitale Kontakte gefährlich werden: Cybergrooming verstehen und vorbeugen
DESCRIPTION;ENCODING=QUOTED-PRINTABLE:Online-Veranstaltung vom Kinderb=C3=BCro der Stadt Karlsruhe=0D=0A=0D=0A  Digitale 
 Medien geh=C3=B6ren zum Alltag von  Kindern und Jugendlichen =E2=80=93 doch
  sie sind dort nicht immer sicher. Unter  falscher Identit=C3=A4t nehmen T
 =C3=A4ter Kontakt auf\, um Vertrauen zu gewinnen  und sexuelle =C3=9Cbergrif
 fe anzubahnen.    Diese  Ausgabe von =E2=80=9EKinderb=C3=BCro On Air=E2=80
 =9C beleuchtet das Ph=C3=A4nomen Cybergrooming:  Welche Strategien T=C3=A4t
 er nutzen\, wie Warnsignale in Chats\, Games und  sozialen Netzwerken erkannt
  werden k=C3=B6nnen =E2=80=93 und wie wir Kinder wirksam  st=C3=A4rken und 
 sch=C3=BCtzen.    Referent:     Raphael Alber    \,=C2=A0Stadtmedienzentrum 
  =0D=0A  =0D=0A  Die Veranstaltung richtet sich an Eltern mit Kindern ab dem Alter 
 von 6 Jahren\, die sich mit diesen Fragen besch=C3=A4ftigen wollen. =20
URL:https://kalender.karlsruhe.de/db/termine/stadtleben/wenn_digitale_kontakte_gefahrlich_werden
CLASS:PUBLIC
DTSTART:20260519T200000
DTEND:20260519T210000
DTSTAMP:20260303T104736
CATEGORIES:Stadtleben
ATTACH:https://kalender.karlsruhe.de/db/termine/stadtleben/wenn_digitale_kontakte_gefahrlich_werden/file/icon_ON-AIR-mit-Schrift-Kalender.jpg
END:VEVENT

END:VCALENDAR
