BEGIN:VCALENDAR
VERSION:2.0
CALSCALE:GREGORIAN
PRODID:https://kalender.karlsruhe.de/db/termine/
METHOD:PUBLISH
BEGIN:VEVENT
UID:580550
ORGANIZER;CN=Naturschutzzentrum Karlsruhe-Rappenwört:MAILTO:info@nazka.de
LOCATION:Naturschutzzentrum Karlsruhe-Rappenwört
SUMMARY:Wichtelweihnacht
DESCRIPTION;ENCODING=QUOTED-PRINTABLE:ab 4 Jahren=0D=0A=0D=0A  Bei w=C3=A4rmendem Punsch und Geb=C3=A4ck tauchen wir ein 
 in die zauberhafte Welt des Winterwaldes\,=C2=A0lauschen Geschichten und M
 =C3=A4rchen von Wichteln und Tieren des Winterwaldes. Dazwischen basteln wi
 r uns Wichteliges als Andenken an diesen besonderen Nachmittag.      Leitun
 g:    Annette Volz\, M=C3=A4rchenerz=C3=A4hlerin  =0D=0A     Kosten:    12 =E2
 =82=AC / Kind in Begleitung eines Erwachsenen\, jede weitere Person 6 =E2=82
 =AC      Anmeldung mit=C2=A0Vorab=C3=BCberweisung der Teilnahmegeb=C3=BChr
 =C2=A0bis 10.12.26=C2=A0erforderlich.   =20
URL:https://kalender.karlsruhe.de/db/termine/stadtleben/wichtelweihnacht
CLASS:PUBLIC
DTSTART:20261213T150000
DTEND:20261213T163000
DTSTAMP:20260330T083721
CATEGORIES:Stadtleben
ATTACH:https://kalender.karlsruhe.de/db/termine/stadtleben/wichtelweihnacht/file/icon_Logo Nazka 3,0 cm.jpg
END:VEVENT

END:VCALENDAR
