BEGIN:VCALENDAR
VERSION:2.0
CALSCALE:GREGORIAN
PRODID:https://kalender.karlsruhe.de/db/termine/
METHOD:PUBLISH
BEGIN:VEVENT
UID:545591
ORGANIZER;CN=Marktamt der Stadt Karlsruhe:MAILTO:ma@karlsruhe.de
LOCATION:Gottesauer Platz
SUMMARY:Wochenmarkt Gottesauer Platz
DESCRIPTION;ENCODING=QUOTED-PRINTABLE:Markttage:  Mittwoch und Freitag (an Feiertagen findet kein Wochenmarkt sta
 tt)=0D=0A=0D=0A  Hier gibt es vieles\, was das Herz begehrt:     Gefl=C3=BCgel\, Gem
 =C3=BCse\, Salat\, N=C3=BCsse\, Obst\, Wurst und Teigwaren ... und das\, obwohl 
 nur ein Beschicker dem Markt treu geblieben ist.   =0D=0A   =0D=0A   Mehr Informati
 onen und Aktuelles unter       www.karlsruhe.de/maerkte      =0D=0A   =20
URL:https://kalender.karlsruhe.de/db/termine/stadtleben/wochenmarkt_gottesauer_platz
CLASS:PUBLIC
DTSTART:20251119T073000
DTEND:20501231T130000
DTSTAMP:20251118T140805
CATEGORIES:Stadtleben
ATTACH:https://kalender.karlsruhe.de/db/termine/stadtleben/wochenmarkt_gottesauer_platz/file/icon_kff020.jpg
END:VEVENT

END:VCALENDAR
