BEGIN:VCALENDAR
VERSION:2.0
CALSCALE:GREGORIAN
PRODID:https://kalender.karlsruhe.de/db/termine/
METHOD:PUBLISH
BEGIN:VEVENT
UID:545593
ORGANIZER;CN=Marktamt der Stadt Karlsruhe:MAILTO:ma@karlsruhe.de
LOCATION:Elsässer Platz
SUMMARY:Wochenmarkt Knielingen
DESCRIPTION;ENCODING=QUOTED-PRINTABLE:Marktzeiten: Mittwoch von 8 bis 12 Uhr\, Freitag 14 bis 18.30 Uhr und am Sam
 stag 8 bis 12 Uhr (an Feiertagen findet kein Wochenmarkt statt)=0D=0A=0D=0A  Der Ma
 rkt ist zwar vergleichsweise klein\, aber fein und braucht sich vor seinen g
 r=C3=B6=C3=9Feren "Kollegen" in den anderen Stadtteilen keinesfalls zu vers
 tecken.  =0D=0A    =0D=0A    Mehr Informationen und Aktuelles unter www.karlsruhe.d
 e/maerkte  =0D=0A   =20
URL:https://kalender.karlsruhe.de/db/termine/stadtleben/wochenmarkt_knielingen
CLASS:PUBLIC
DTSTART:20251119T080000
DTEND:20501231T120000
DTSTAMP:20251118T140635
CATEGORIES:Stadtleben
ATTACH:https://kalender.karlsruhe.de/db/termine/stadtleben/wochenmarkt_knielingen/file/icon_IMG_1500.jpg
END:VEVENT

END:VCALENDAR
