BEGIN:VCALENDAR
VERSION:2.0
CALSCALE:GREGORIAN
PRODID:https://kalender.karlsruhe.de/db/termine/
METHOD:PUBLISH
BEGIN:VEVENT
UID:545595
ORGANIZER;CN=Marktamt der Stadt Karlsruhe:MAILTO:ma@karlsruhe.de
LOCATION:Rheinstraße am Entenfang
SUMMARY:Wochenmarkt Mühlburg
DESCRIPTION;ENCODING=QUOTED-PRINTABLE:jeden Freitag auf dem Peter-und-Paul-Platz =E2=80=93 vor der Kirche St. Pet
 er und Paul  (am Feiertagen findet kein Wochenmarkt statt)=0D=0A=0D=0A  Sicherlich 
 geh=C3=B6rt der M=C3=BChlburger Wochenmarkt nicht zu den gr=C3=B6=C3=9Ften 
 in der Stadt. Die meisten Kunden sind =E2=80=93 wie auch auf anderen M=C3
 =A4rkten in Karlsruhe =E2=80=93 Stammkunden.  =0D=0A    =0D=0A    Mehr Informatione
 n und Aktuelles unter www.karlsruhe.de/maerkte  =0D=0A =20
URL:https://kalender.karlsruhe.de/db/termine/stadtleben/wochenmarkt_muhlburg
CLASS:PUBLIC
DTSTART:20251119T073000
DTEND:20501231T123000
DTSTAMP:20251118T140449
CATEGORIES:Stadtleben
ATTACH:https://kalender.karlsruhe.de/db/termine/stadtleben/wochenmarkt_muhlburg/file/icon_P1090813.jpg
END:VEVENT

END:VCALENDAR
