BEGIN:VCALENDAR
VERSION:2.0
CALSCALE:GREGORIAN
PRODID:https://kalender.karlsruhe.de/db/termine/
METHOD:PUBLISH
BEGIN:VEVENT
UID:545597
ORGANIZER;CN=Marktamt der Stadt Karlsruhe:MAILTO:ma@karlsruhe.de
LOCATION:Neureuter Platz an der Badnerlandhalle
SUMMARY:Wochenmarkt Neureut
DESCRIPTION;ENCODING=QUOTED-PRINTABLE:Marktzeiten: Freitag =E2=80=93 bei der Badnerlandhalle. Am Freitag Nachmitt
 ag von 14 bis 18 Uhr ist "Der H=C3=BChnerfred" mit frischen H=C3=A4hnchen\, 
 H=C3=A4hnchenschenkeln und anderem vertreten. An Feiertagen findet kein Woc
 henmarkt statt.=0D=0A=0D=0A  Der Markt auf dem Neureuter Platz hat viel Atmosph=C3
 =A4re und ist nicht nur bei den Bewohnern des Stadtteils Neureut sehr belie
 bt.  =0D=0A    =0D=0A    Mehr Informationen und Aktuelles unter www.karlsruhe.de/ma
 erkte  =0D=0A =20
URL:https://kalender.karlsruhe.de/db/termine/stadtleben/wochenmarkt_neureut
CLASS:PUBLIC
DTSTART:20251119T073000
DTEND:20501230T133000
DTSTAMP:20251118T105354
CATEGORIES:Stadtleben
ATTACH:https://kalender.karlsruhe.de/db/termine/stadtleben/wochenmarkt_neureut/file/icon_DSCF5804.jpg
END:VEVENT

END:VCALENDAR
