BEGIN:VCALENDAR
VERSION:2.0
CALSCALE:GREGORIAN
PRODID:https://kalender.karlsruhe.de/db/termine/
METHOD:PUBLISH
BEGIN:VEVENT
UID:545599
ORGANIZER;CN=Marktamt der Stadt Karlsruhe:MAILTO:ma@karlsruhe.de
LOCATION:Julius-Leber-Platz (Marktplatz Oberreut)
SUMMARY:Wochenmarkt Oberreut
DESCRIPTION;ENCODING=QUOTED-PRINTABLE:Marktzeiten: Freitag (an Feiertagen findet kein Wochenmarkt statt)=0D=0A=0D=0A  Imm
 er freitags zwischen 14 und 18.30 Uhr wird der kleine aber feine Markt auf 
 dem Julius-Leber-Platz abgehalten.    =0D=0A    Mehr Informationen und Aktuelle
 s unter www.karlsruhe.de/maerkte  =0D=0A =20
URL:https://kalender.karlsruhe.de/db/termine/stadtleben/wochenmarkt_oberreut
CLASS:PUBLIC
DTSTART:20251119T140000
DTEND:20501230T183000
DTSTAMP:20251118T140402
CATEGORIES:Stadtleben
ATTACH:https://kalender.karlsruhe.de/db/termine/stadtleben/wochenmarkt_oberreut/file/icon_kff008.jpg
END:VEVENT

END:VCALENDAR
