BEGIN:VCALENDAR
VERSION:2.0
CALSCALE:GREGORIAN
PRODID:https://kalender.karlsruhe.de/db/termine/
METHOD:PUBLISH
BEGIN:VEVENT
UID:545603
ORGANIZER;CN=Marktamt der Stadt Karlsruhe:MAILTO:ma@karlsruhe.de
LOCATION:Stephanplatz
SUMMARY:Wochenmarkt Stephanplatz
DESCRIPTION;ENCODING=QUOTED-PRINTABLE:Marktzeiten: Montag\, Mittwoch und Freitag bei der PostGalerie (an Feiertage
 n findet kein Wochenmarkt statt)=0D=0A=0D=0A  Ob Obst und Gem=C3=BCse\, Pflanzen ode
 r Fleisch- und Wurstwaren =E2=80=93 auf dem Wochenmarkt am Stephanplatz ist
  jeder gut aufgehoben. Bei rund 40 Beschickerinnen und Beschickern k=C3=B6n
 nen die Kunden dreimal in der Woche ausgiebig einkaufen. Vor allem am Freit
 ag herrscht reges Treiben.  =0D=0A    =0D=0A    Mehr Informationen und Aktuelles un
 ter www.karlsruhe.de/maerkte =20
URL:https://kalender.karlsruhe.de/db/termine/stadtleben/wochenmarkt_stephanplatz
CLASS:PUBLIC
DTSTART:20251119T073000
DTEND:20501230T140000
DTSTAMP:20251118T140742
CATEGORIES:Stadtleben
ATTACH:https://kalender.karlsruhe.de/db/termine/stadtleben/wochenmarkt_stephanplatz/file/icon_Stephan_01.jpg
END:VEVENT

END:VCALENDAR
