BEGIN:VCALENDAR
VERSION:2.0
CALSCALE:GREGORIAN
PRODID:https://kalender.karlsruhe.de/db/termine/
METHOD:PUBLISH
BEGIN:VEVENT
UID:545605
ORGANIZER;CN=Marktamt der Stadt Karlsruhe:MAILTO:ma@karlsruhe.de
LOCATION:Waldstadtzentrum
SUMMARY:Wochenmarkt Waldstadt
DESCRIPTION;ENCODING=QUOTED-PRINTABLE:Marktzeiten: Mittwoch und Freitag von 9 bis 17 Uhr und am Samstag von 7 bis
  14 Uhr im Waldstadtzentrum (an Feiertagen findet kein Wochenmarkt statt)=0D=0A
 =0D=0A  Eine zus=C3=A4tzliche Besonderheit des Marktes ist auch das gro=C3=9Fz
 =C3=BCgige Parkplatzangebot sowie die Stra=C3=9Fenbahnhaltestelle direkt vo
 r der "Haust=C3=BCr".  =0D=0A    =0D=0A    Mehr Informationen und Aktuelles unter w
 ww.karlsruhe.de/maerkte  =0D=0A =20
URL:https://kalender.karlsruhe.de/db/termine/stadtleben/wochenmarkt_waldstadt
CLASS:PUBLIC
DTSTART:20251119T090000
DTEND:20501231T170000
DTSTAMP:20251118T140610
CATEGORIES:Stadtleben
ATTACH:https://kalender.karlsruhe.de/db/termine/stadtleben/wochenmarkt_waldstadt/file/icon_Bild_2.jpg
END:VEVENT

END:VCALENDAR
