BEGIN:VCALENDAR
VERSION:2.0
CALSCALE:GREGORIAN
PRODID:https://kalender.karlsruhe.de/db/termine/
METHOD:PUBLISH
BEGIN:VEVENT
UID:567550
ORGANIZER;CN=CHARLES KNIE GmbH:MAILTO:info@zirkus-charles-knie.de
LOCATION:Karlsruhe Messplatz
SUMMARY:Zirkus Charles Knie
DESCRIPTION;ENCODING=QUOTED-PRINTABLE:Europas Top-Zirkus=0D=0A=0D=0A  Die Show als Ganzes erleben.  =0D=0A  100.000 Liter Emo
 tionen =E2=80=93 Wenn Wasser zur Show wird.    Hier wird alles getan\, um di
 e Artisten perfekt in Szene zu setzen. Die Shows sind bekannt f=C3=BCr satt
 en Sound und raffinierte Lichtkompositionen. Und immer illuminiert das Show
 -Ballett zu vielen Darbietungen die atemberaubenden Leistungen der K=C3=BCn
 stler. F=C3=BCr die neue Produktion ist das Element Wasser von besonderer B
 edeutung. Die gro=C3=9Fe Show-B=C3=BChne zeigt was in ihr steckt\, und pumpt
  100.000 Liter Wasser durch 300 Pumpen. Sie ist auf 3 Ebenen hydraulisch au
 sfahrbar und mit unz=C3=A4hligen Lichteffekten best=C3=BCckt. Die Show als 
 =E2=80=9EGanzes=E2=80=9C erleben\, alle Sinne geflutet =E2=80=93 ein Rausch 
 aus Farben\, Sound\, H=C3=B6chstleistungen und unendlich viel Spa=C3=9F.  =0D=0A 
 =20
URL:https://kalender.karlsruhe.de/db/termine/stadtleben/zirkus_charles_knie-1
CLASS:PUBLIC
DTSTART:20260813T000000
DTEND:20260819T000000
DTSTAMP:20260108T102614
CATEGORIES:Stadtleben
ATTACH:https://kalender.karlsruhe.de/db/termine/stadtleben/zirkus_charles_knie-1/file/icon_Screenshot 2026-01-07 at 10-49-08 START.jpg
END:VEVENT

END:VCALENDAR
