BEGIN:VCALENDAR
VERSION:2.0
CALSCALE:GREGORIAN
PRODID:https://kalender.karlsruhe.de/db/termine/
METHOD:PUBLISH
BEGIN:VEVENT
UID:579893
ORGANIZER;CN=Badisches Staatstheater Karlsruhe:MAILTO:kartenservice@staatstheater.karlsruhe.de
LOCATION:Staatstheater, siehe Beschreibung
SUMMARY:All das Schöne
DESCRIPTION;ENCODING=QUOTED-PRINTABLE:von Duncan Macmillan=0D=0A=0D=0A
URL:https://kalender.karlsruhe.de/db/termine/theater/all_das_schone-2
CLASS:PUBLIC
DTSTART:20260603T193000
DTEND:
DTSTAMP:20260309T175537
CATEGORIES:Theater, Tanz
ATTACH:https://kalender.karlsruhe.de/db/termine/theater/all_das_schone-2/file/icon_bsk_digitale-formate_all-das-schoene_wa_stueckseite_68e5103849b336.19501580.jpg
END:VEVENT

END:VCALENDAR
