BEGIN:VCALENDAR
VERSION:2.0
CALSCALE:GREGORIAN
PRODID:https://kalender.karlsruhe.de/db/termine/
METHOD:PUBLISH
BEGIN:VEVENT
UID:578993
ORGANIZER;CN=Stiftung Centre Culturel Franco-Allemand Karlsruhe:MAILTO:info@ccfa-ka.de
LOCATION:Kinemathek Karlsruhe
SUMMARY:Cinéfête - das französische Schulfilmfestival
DESCRIPTION;ENCODING=QUOTED-PRINTABLE:Meldet euch als Schulklasse an!=0D=0A=0D=0A  CIN=C3=89F=C3=8ATE ist ein traditionsr
 eiches und beliebtes Schulfilmfestival\, das  seit dem Jahr 2000 durch deuts
 che Programmkinos tourt und inzwischen  rund 100.000 Sch=C3=BClern j=C3=A4h
 rlich den Umgang mit frankophoner Filmkunst und  der franz=C3=B6sischen Spr
 ache erm=C3=B6glicht.    Auch diese Jahr macht das Festival wieder einen Ha
 lt in der Kinemathek Karlsruhe und zeigt franz=C3=B6sische Filme.    Mehr I
 nformationen zu den Filmen und dem Programm finden Sie unter: https://cinef
 ete.de/    =C2=A9     Cin=C3=A9f=C3=AAte   =20
URL:https://kalender.karlsruhe.de/db/termine/theater/cinefete_das_franzosische_schulfilmfestival
CLASS:PUBLIC
DTSTART:20260615T000000
DTEND:20260622T000000
DTSTAMP:20260330T105734
CATEGORIES:Theater, Tanz
ATTACH:https://kalender.karlsruhe.de/db/termine/theater/cinefete_das_franzosische_schulfilmfestival/file/icon_cf25_poster_small_Copyright Cinéfête.jpg
END:VEVENT

END:VCALENDAR
