BEGIN:VCALENDAR
VERSION:2.0
CALSCALE:GREGORIAN
PRODID:https://kalender.karlsruhe.de/db/termine/
METHOD:PUBLISH
BEGIN:VEVENT
UID:579305
ORGANIZER;CN=marotte Theater:MAILTO:info@marotte-theater.de
LOCATION:marotte Theater
SUMMARY:Das schönste Ei der Welt (Gastspiel ab 4 Jahren)
DESCRIPTION;ENCODING=QUOTED-PRINTABLE:nach Helme Heine=0D=0A=0D=0A  Drei H=C3=BChner haben ein Problem: Wer von ihnen ist
  die Sch=C3=B6nste? P=C3=BCnktchen hat ein toll gemustertes Federkleid\, Lat
 te schicke lange Beine und Feder einen prachtvollen Kamm. Der K=C3=B6nig ha
 t geh=C3=B6rt\, dass Sch=C3=B6nheit von innen kommt\, und veranstaltet einen 
 Wettbewerb: Diejenige\, die das sch=C3=B6nste Ei legt\, die soll auch die Sch
 =C3=B6nste sein. Doch was hei=C3=9Ft =C3=BCberhaupt =C2=BBsch=C3=B6n=C2=AB?
 ! =20
URL:https://kalender.karlsruhe.de/db/termine/theater/das_schonste_ei_der_welt_gastspiel_ab_4_jahren-1
CLASS:PUBLIC
DTSTART:20260502T140000
DTEND:20260502T144500
DTSTAMP:20260223T081051
CATEGORIES:Theater, Tanz
ATTACH:https://kalender.karlsruhe.de/db/termine/theater/das_schonste_ei_der_welt_gastspiel_ab_4_jahren-1/file/icon_das_schönste_ei_der_welt_pressephoto_2.jpg
END:VEVENT

END:VCALENDAR
