BEGIN:VCALENDAR
VERSION:2.0
CALSCALE:GREGORIAN
PRODID:https://kalender.karlsruhe.de/db/termine/
METHOD:PUBLISH
BEGIN:VEVENT
UID:579895
ORGANIZER;CN=Badisches Staatstheater Karlsruhe:MAILTO:kartenservice@staatstheater.karlsruhe.de
LOCATION:Staatstheater, siehe Beschreibung
SUMMARY:Debritz (Premiere)
DESCRIPTION;ENCODING=QUOTED-PRINTABLE:von Kaleb Erdmann=0D=0A=0D=0A
URL:https://kalender.karlsruhe.de/db/termine/theater/debritz_premiere
CLASS:PUBLIC
DTSTART:20260624T193000
DTEND:
DTSTAMP:20260330T175541
CATEGORIES:Theater, Tanz
ATTACH:https://kalender.karlsruhe.de/db/termine/theater/debritz_premiere/file/icon_bsk_2025_26_stueckinfo_debritz_69ca90eb31e0d0.32031284.jpg
END:VEVENT

END:VCALENDAR
