BEGIN:VCALENDAR
VERSION:2.0
CALSCALE:GREGORIAN
PRODID:https://kalender.karlsruhe.de/db/termine/
METHOD:PUBLISH
BEGIN:VEVENT
UID:580263
ORGANIZER;CN=Badisches Staatstheater Karlsruhe:MAILTO:kartenservice@staatstheater.karlsruhe.de
LOCATION:Staatstheater, siehe Beschreibung
SUMMARY:Debritz (Und jetzt! Wochen der Nachhaltigkeit)
DESCRIPTION;ENCODING=QUOTED-PRINTABLE:von Kaleb Erdmann=0D=0A=0D=0A
URL:https://kalender.karlsruhe.de/db/termine/theater/debritz_und_jetzt_wochen_der_nachhaltigkeit-1
CLASS:PUBLIC
DTSTART:20260713T193000
DTEND:
DTSTAMP:20260330T175545
CATEGORIES:Theater, Tanz
ATTACH:https://kalender.karlsruhe.de/db/termine/theater/debritz_und_jetzt_wochen_der_nachhaltigkeit-1/file/icon_bsk_2025_26_stueckinfo_debritz_69ca90eb31e0d0.32031284.jpg
END:VEVENT

END:VCALENDAR
