BEGIN:VCALENDAR
VERSION:2.0
CALSCALE:GREGORIAN
PRODID:https://kalender.karlsruhe.de/db/termine/
METHOD:PUBLISH
BEGIN:VEVENT
UID:579160
ORGANIZER;CN=marotte Theater:MAILTO:info@marotte-theater.de
LOCATION:marotte Theater
SUMMARY:Der kleine Eisbär (ab 3)
DESCRIPTION;ENCODING=QUOTED-PRINTABLE:Sommerfest in der marotte!=0D=0A=0D=0A    nach dem Kinderbuch von Hans de Beer     
  Hoch oben im Norden\, wo Schnee und Eis ewig sind\, wohnt Lars\, der kleine E
 isb=C3=A4r. Lars kann schon auf dem R=C3=BCcken seines Vaters reiten und mi
 t einer Pfote Fische fangen. Nur schwimmen\, das kann er noch nicht so gut. 
 Eines Tages passiert etwas Schreckliches. Lars treibt ganz allein auf einer
  Eisscholle hinaus aufs Meer. Und erlebt sein erstes gro=C3=9Fes Abenteuer.
  Ein St=C3=BCck f=C3=BCr die ganz Kleinen. Dar=C3=BCber\, wie sch=C3=B6n es 
 ist\, die Welt zu entdecken. Und =C3=BCber das sch=C3=B6nste Wort\, wenn man 
 genug gesehen hat: Nach Hause...    Spiel:Thomas H=C3=A4nsel =20
URL:https://kalender.karlsruhe.de/db/termine/theater/der_kleine_eisbar_ab3n-59
CLASS:PUBLIC
DTSTART:20260802T110000
DTEND:20260802T114000
DTSTAMP:20260306T094754
CATEGORIES:Theater, Tanz
ATTACH:https://kalender.karlsruhe.de/db/termine/theater/der_kleine_eisbar_ab3n-59/file/icon_Sommerfest-E.jpg
END:VEVENT

END:VCALENDAR
