BEGIN:VCALENDAR
VERSION:2.0
CALSCALE:GREGORIAN
PRODID:https://kalender.karlsruhe.de/db/termine/
METHOD:PUBLISH
BEGIN:VEVENT
UID:579155
ORGANIZER;CN=marotte Theater:MAILTO:info@marotte-theater.de
LOCATION:marotte Theater
SUMMARY:Der kleine  Wikinger (ab 5)
DESCRIPTION;ENCODING=QUOTED-PRINTABLE:Grips statt Muskelkraft=0D=0A=0D=0ADer kleine Wikingerjunge erlebt mit den anderen 
 Wikingern seines Stammes viele Abenteuer. Aber er ist klein und ihm fehlen 
 die Muskeln\, sodass er von den anderen selten richtig ernst genommen wird. 
 Doch er zeigt\, dass durchaus auch ein Held sein kann\, wer statt Muskelkraft
  und Mut einfach eine geh=C3=B6rige Portion Grips hat.=20
URL:https://kalender.karlsruhe.de/db/termine/theater/der_kleine_wikinger_ab5n-29
CLASS:PUBLIC
DTSTART:20260729T100000
DTEND:20260729T104500
DTSTAMP:20260223T081504
CATEGORIES:Theater, Tanz
ATTACH:https://kalender.karlsruhe.de/db/termine/theater/der_kleine_wikinger_ab5n-29/file/icon_Wickie- Presse.jpg
END:VEVENT

END:VCALENDAR
