BEGIN:VCALENDAR
VERSION:2.0
CALSCALE:GREGORIAN
PRODID:https://kalender.karlsruhe.de/db/termine/
METHOD:PUBLISH
BEGIN:VEVENT
UID:579186
ORGANIZER;CN=marotte Theater:MAILTO:info@marotte-theater.de
LOCATION:marotte Theater
SUMMARY:Die Kiste (ab 3 Jahren)
DESCRIPTION;ENCODING=QUOTED-PRINTABLE:nach dem Bilderbuch von Lorenz Pauli=0D=0A=0D=0A  Das Meer hat eine Kiste an den St
 rand gesp=C3=BClt. Ist da jemand drin?    Was f=C3=BCr ein Gl=C3=BCck\, dass
  hier am Strand keiner Angst hat. Vor gar nichts. H=C3=B6chstens vor Meerun
 geheuern. Und vor diesem Ger=C3=A4usch\, das pl=C3=B6tzlich zu h=C3=B6ren is
 t. Da ist es in der Kiste sicherer. Oder vielleicht doch nicht? Eine Ziege\,
  ein Hund\, eine M=C3=B6we und die Sau Rosine verstecken sich in der Kiste. 
    Aber wo ist jetzt das Meerungeheuer?    Eine Geschichte =C3=BCber die An
 gst\, dar=C3=BCber\, dass sie manchmal einfach angeschlichen kommt und dass m
 an sie verscheuchen kann.    Gemeinsam.    Genauso wie Meerungeheuer. =20
URL:https://kalender.karlsruhe.de/db/termine/theater/die_kiste_ab_3_jahren-5
CLASS:PUBLIC
DTSTART:20260610T100000
DTEND:20260610T104500
DTSTAMP:20260223T081246
CATEGORIES:Theater, Tanz
ATTACH:https://kalender.karlsruhe.de/db/termine/theater/die_kiste_ab_3_jahren-5/file/icon_IMG_20260209_231040.jpg
END:VEVENT

END:VCALENDAR
