BEGIN:VCALENDAR
VERSION:2.0
CALSCALE:GREGORIAN
PRODID:https://kalender.karlsruhe.de/db/termine/
METHOD:PUBLISH
BEGIN:VEVENT
UID:579189
ORGANIZER;CN=marotte Theater:MAILTO:info@marotte-theater.de
LOCATION:marotte Theater
SUMMARY:Die Kiste (ab 3 Jahren)
DESCRIPTION;ENCODING=QUOTED-PRINTABLE:Sommerfest in der marotte!=0D=0A=0D=0A    nach dem Bilderbuch von Lorenz Pauli     
  Das Meer hat eine Kiste an den Strand gesp=C3=BClt. Ist da jemand drin?   
  Was f=C3=BCr ein Gl=C3=BCck\, dass hier am Strand keiner Angst hat. Vor gar
  nichts. H=C3=B6chstens vor Meerungeheuern. Und vor diesem Ger=C3=A4usch\, d
 as pl=C3=B6tzlich zu h=C3=B6ren ist. Da ist es in der Kiste sicherer. Oder 
 vielleicht doch nicht? Eine Ziege\, ein Hund\, eine M=C3=B6we und die Sau Ros
 ine verstecken sich in der Kiste.    Aber wo ist jetzt das Meerungeheuer?  
   Eine Geschichte =C3=BCber die Angst\, dar=C3=BCber\, dass sie manchmal einf
 ach angeschlichen kommt und dass man sie verscheuchen kann.    Gemeinsam.  
   Genauso wie Meerungeheuer. =20
URL:https://kalender.karlsruhe.de/db/termine/theater/die_kiste_ab_3_jahren-8
CLASS:PUBLIC
DTSTART:20260730T150000
DTEND:20260730T154500
DTSTAMP:20260306T094756
CATEGORIES:Theater, Tanz
ATTACH:https://kalender.karlsruhe.de/db/termine/theater/die_kiste_ab_3_jahren-8/file/icon_Sommerfest-KI.jpg
END:VEVENT

END:VCALENDAR
